BEGIN:VCALENDAR
VERSION:2.0
PRODID:-//Connecting Kids - ECPv6.15.20//NONSGML v1.0//EN
CALSCALE:GREGORIAN
METHOD:PUBLISH
X-WR-CALNAME:Connecting Kids
X-ORIGINAL-URL:https://connectingkids.it
X-WR-CALDESC:Eventi per Connecting Kids
REFRESH-INTERVAL;VALUE=DURATION:PT1H
X-Robots-Tag:noindex
X-PUBLISHED-TTL:PT1H
BEGIN:VTIMEZONE
TZID:Europe/Rome
BEGIN:DAYLIGHT
TZOFFSETFROM:+0100
TZOFFSETTO:+0200
TZNAME:CEST
DTSTART:20240331T010000
END:DAYLIGHT
BEGIN:STANDARD
TZOFFSETFROM:+0200
TZOFFSETTO:+0100
TZNAME:CET
DTSTART:20241027T010000
END:STANDARD
BEGIN:DAYLIGHT
TZOFFSETFROM:+0100
TZOFFSETTO:+0200
TZNAME:CEST
DTSTART:20250330T010000
END:DAYLIGHT
BEGIN:STANDARD
TZOFFSETFROM:+0200
TZOFFSETTO:+0100
TZNAME:CET
DTSTART:20251026T010000
END:STANDARD
BEGIN:DAYLIGHT
TZOFFSETFROM:+0100
TZOFFSETTO:+0200
TZNAME:CEST
DTSTART:20260329T010000
END:DAYLIGHT
BEGIN:STANDARD
TZOFFSETFROM:+0200
TZOFFSETTO:+0100
TZNAME:CET
DTSTART:20261025T010000
END:STANDARD
END:VTIMEZONE
BEGIN:VEVENT
DTSTART;TZID=Europe/Rome:20250321T163000
DTEND;TZID=Europe/Rome:20250321T180000
DTSTAMP:20260421T054022
CREATED:20250313T075853Z
LAST-MODIFIED:20250313T082820Z
UID:10001323-1742574600-1742580000@connectingkids.it
SUMMARY:Leggendo\, guardando\, cantando...
DESCRIPTION:Leggendo\, Guardando\, Cantando: Un’Avventura tra le Storie alla Biblioteca Frera\nLa Biblioteca Frera invita tutti i bambini e le bambine dai 3 anni in su a un’esperienza magica e coinvolgente con la lettura animata “Leggendo\, guardando\, cantando…”\, a cura del Gruppo Voci di Carta. \n📅 Quando? Venerdì 21 marzo 2025\n📍 Dove? Biblioteca Frera – Tradate\n🎭 Cosa aspettarsi? Un viaggio tra racconti\, immagini e canzoni che darà vita alle storie in modo interattivo e divertente! \nL’evento è a ingresso libero\, un’occasione perfetta per avvicinare i più piccoli al mondo della lettura in modo giocoso e stimolante.
URL:https://connectingkids.it/evento/leggendo-guardando-cantando/
LOCATION:Biblioteca Frera\, Via Zara\, 37\, Tradate\, VA\, 21049
CATEGORIES:Gratis,Lettura e Letteratura,Letture animate
ATTACH;FMTTYPE=image/png:https://connectingkids.it/wp-content/uploads/2025/03/Progetto-senza-titolo-1.png
END:VEVENT
END:VCALENDAR