BEGIN:VCALENDAR
VERSION:2.0
PRODID:-//Connecting Kids - ECPv6.15.20//NONSGML v1.0//EN
CALSCALE:GREGORIAN
METHOD:PUBLISH
X-ORIGINAL-URL:https://connectingkids.it
X-WR-CALDESC:Eventi per Connecting Kids
REFRESH-INTERVAL;VALUE=DURATION:PT1H
X-Robots-Tag:noindex
X-PUBLISHED-TTL:PT1H
BEGIN:VTIMEZONE
TZID:Europe/Rome
BEGIN:DAYLIGHT
TZOFFSETFROM:+0100
TZOFFSETTO:+0200
TZNAME:CEST
DTSTART:20240331T010000
END:DAYLIGHT
BEGIN:STANDARD
TZOFFSETFROM:+0200
TZOFFSETTO:+0100
TZNAME:CET
DTSTART:20241027T010000
END:STANDARD
BEGIN:DAYLIGHT
TZOFFSETFROM:+0100
TZOFFSETTO:+0200
TZNAME:CEST
DTSTART:20250330T010000
END:DAYLIGHT
BEGIN:STANDARD
TZOFFSETFROM:+0200
TZOFFSETTO:+0100
TZNAME:CET
DTSTART:20251026T010000
END:STANDARD
BEGIN:DAYLIGHT
TZOFFSETFROM:+0100
TZOFFSETTO:+0200
TZNAME:CEST
DTSTART:20260329T010000
END:DAYLIGHT
BEGIN:STANDARD
TZOFFSETFROM:+0200
TZOFFSETTO:+0100
TZNAME:CET
DTSTART:20261025T010000
END:STANDARD
END:VTIMEZONE
BEGIN:VEVENT
DTSTART;TZID=Europe/Rome:20250406T103000
DTEND;TZID=Europe/Rome:20250406T120000
DTSTAMP:20260421T035342
CREATED:20250328T181420Z
LAST-MODIFIED:20250328T181823Z
UID:10001376-1743935400-1743940800@connectingkids.it
SUMMARY:Musica in Gioco - Cittiglio
DESCRIPTION:🎶 Musica in Gioco: laboratorio creativo per bambini 🎵\n📅 Domenica 6 aprile 2025 – ⏰ Ore 10:30 – 12:00📍 Via Guglielmo Marconi\, 21033 Cittiglio \nUn’esperienza unica di gioco e movimento attraverso i suoni\, dove i bambini potranno esplorare il mondo della musica in modo creativo e coinvolgente! \n🎼 Cosa faremo?Attraverso strumenti musicali e le loro diverse caratteristiche\, i piccoli partecipanti creeranno un racconto ritmico-sonoro\, scoprendo nuove forme di espressione e interazione. \n👦 Per chi?👶 Bambini dai 3 ai 10 anni👩‍👧‍👦 Dai 3 ai 5 anni con la presenza di un genitore \n🎵 Conduce il laboratorio: Elisabetta Pigni\, musicoterapeuta \n🔹 L’evento fa parte di SI-AMO SEMI\, a cura di DIKUNTU e organizzato da CAST ONG ETS. \n📍 Vieni a scoprire il potere della musica giocando! 🎶✨ \nPer prenotare\, clicca qui!
URL:https://connectingkids.it/evento/musica-in-gioco/
LOCATION:Via Guglielmo Marconi\, 21033\, Cittiglio\, Via Guglielmo Marconi\, Cittiglio\, VA\, 21033\, Italy
CATEGORIES:Educazione e Formazione,Musica e Spettacolo,STEAM,Workshop educativi
ATTACH;FMTTYPE=image/avif:https://connectingkids.it/wp-content/uploads/2025/03/https___cdn.evbuc_.com_images_983739893_1405785643843_1_original.avif
END:VEVENT
END:VCALENDAR