BEGIN:VCALENDAR
VERSION:2.0
PRODID:-//Connecting Kids - ECPv6.15.20//NONSGML v1.0//EN
CALSCALE:GREGORIAN
METHOD:PUBLISH
X-WR-CALNAME:Connecting Kids
X-ORIGINAL-URL:https://connectingkids.it
X-WR-CALDESC:Eventi per Connecting Kids
REFRESH-INTERVAL;VALUE=DURATION:PT1H
X-Robots-Tag:noindex
X-PUBLISHED-TTL:PT1H
BEGIN:VTIMEZONE
TZID:Europe/Rome
BEGIN:DAYLIGHT
TZOFFSETFROM:+0100
TZOFFSETTO:+0200
TZNAME:CEST
DTSTART:20240331T010000
END:DAYLIGHT
BEGIN:STANDARD
TZOFFSETFROM:+0200
TZOFFSETTO:+0100
TZNAME:CET
DTSTART:20241027T010000
END:STANDARD
BEGIN:DAYLIGHT
TZOFFSETFROM:+0100
TZOFFSETTO:+0200
TZNAME:CEST
DTSTART:20250330T010000
END:DAYLIGHT
BEGIN:STANDARD
TZOFFSETFROM:+0200
TZOFFSETTO:+0100
TZNAME:CET
DTSTART:20251026T010000
END:STANDARD
BEGIN:DAYLIGHT
TZOFFSETFROM:+0100
TZOFFSETTO:+0200
TZNAME:CEST
DTSTART:20260329T010000
END:DAYLIGHT
BEGIN:STANDARD
TZOFFSETFROM:+0200
TZOFFSETTO:+0100
TZNAME:CET
DTSTART:20261025T010000
END:STANDARD
END:VTIMEZONE
BEGIN:VEVENT
DTSTART;TZID=Europe/Rome:20250412T153000
DTEND;TZID=Europe/Rome:20250412T183000
DTSTAMP:20260421T020031
CREATED:20250405T133921Z
LAST-MODIFIED:20250415T101152Z
UID:10001392-1744471800-1744482600@connectingkids.it
SUMMARY:Spara all'Uovo - Busto Arsizio
DESCRIPTION:Pasqua a Colpo Sicuro: “Spara all’Uovo” a Busto Arsizio!\n🎯 Sabato 12 aprile 2025\, dimenticate le classiche cacce alle uova: a Busto Arsizio vi aspetta un’esperienza unica\, dove mira\, adrenalina e spirito pasquale si uniscono in un evento fuori dagli schemi. Alla Shooting Academy SSD\, torna l’imperdibile appuntamento con “Spara all’Uovo”\, la sfida pasquale più originale della stagione! \nCaccia all’Uovo? Sì\, ma con Precisione!\nIn questa gara insolita e divertente\, bambini dai 10 anni in su\, ragazzi e adulti potranno mettersi alla prova con carabine e pistole ad aria compressa\, sempre sotto la guida esperta degli istruttori della Shooting Academy. \nIl bersaglio? Un misterioso Uovo Nascosto\, che custodisce un super premio finale! Ma attenzione: solo i più precisi riusciranno a scoprirne il segreto… \nCosa Ti Aspetta\n💥 Prove di tiro in sicurezza con istruttori qualificati🎁 Un simpatico regalo pasquale per ogni partecipante☕ Un buono caffè offerto dal Bar Enjoy🎯 Buono sconto di €6\,00 per tornare a sparare con noi! \nTurni Disponibili\n🕐 Scegli il tuo orario tra: \n\n\n13:50 – 15:00 \n\n\n15:00 – 16:10 \n\n\n16:20 – 17:30 \n\n\n17:30 – 18:40 \n\n\n🎟 Quota di partecipazione: €20\,00👧 Età minima: 10 anni \n📌 Posti limitati – prenotazione obbligatoria! \n📧 Email: shooting.academy.asd@gmail.com📱 WhatsApp: 388 8974679 \nDove Colpire nel Segno\n📍 Shooting Academy SSD a RLVia Fanti 16 – 21052 Busto Arsizio (VA) \n💡 Che tu sia un aspirante tiratore o un genitore in cerca di un’attività originale per il weekend pasquale\, “Spara all’Uovo” è l’occasione perfetta per vivere la Pasqua… con un pizzico di brivido!
URL:https://connectingkids.it/evento/spara-alluovo-busto-arsizio/
LOCATION:Shooting Academy SSD\, Via Fanti 16\, Busto Arsizio\, VA\, 21052\, Italy
CATEGORIES:Celebrazioni tradizionali,Cultura e Tradizioni,Festa di Pasqua,Gioco e Divertimento,Sport e Attività Fisica,Tornei giochi,Tornei sportivi
ATTACH;FMTTYPE=image/png:https://connectingkids.it/wp-content/uploads/2025/04/Spara-alluovo.png
END:VEVENT
END:VCALENDAR