BEGIN:VCALENDAR
VERSION:2.0
PRODID:-//Connecting Kids - ECPv6.15.20//NONSGML v1.0//EN
CALSCALE:GREGORIAN
METHOD:PUBLISH
X-WR-CALNAME:Connecting Kids
X-ORIGINAL-URL:https://connectingkids.it
X-WR-CALDESC:Eventi per Connecting Kids
REFRESH-INTERVAL;VALUE=DURATION:PT1H
X-Robots-Tag:noindex
X-PUBLISHED-TTL:PT1H
BEGIN:VTIMEZONE
TZID:Europe/Rome
BEGIN:DAYLIGHT
TZOFFSETFROM:+0100
TZOFFSETTO:+0200
TZNAME:CEST
DTSTART:20240331T010000
END:DAYLIGHT
BEGIN:STANDARD
TZOFFSETFROM:+0200
TZOFFSETTO:+0100
TZNAME:CET
DTSTART:20241027T010000
END:STANDARD
BEGIN:DAYLIGHT
TZOFFSETFROM:+0100
TZOFFSETTO:+0200
TZNAME:CEST
DTSTART:20250330T010000
END:DAYLIGHT
BEGIN:STANDARD
TZOFFSETFROM:+0200
TZOFFSETTO:+0100
TZNAME:CET
DTSTART:20251026T010000
END:STANDARD
BEGIN:DAYLIGHT
TZOFFSETFROM:+0100
TZOFFSETTO:+0200
TZNAME:CEST
DTSTART:20260329T010000
END:DAYLIGHT
BEGIN:STANDARD
TZOFFSETFROM:+0200
TZOFFSETTO:+0100
TZNAME:CET
DTSTART:20261025T010000
END:STANDARD
END:VTIMEZONE
BEGIN:VEVENT
DTSTART;TZID=Europe/Rome:20250709T190000
DTEND;TZID=Europe/Rome:20250709T201500
DTSTAMP:20260420T165931
CREATED:20250705T100225Z
LAST-MODIFIED:20250705T100226Z
UID:10001512-1752087600-1752092100@connectingkids.it
SUMMARY:3\, 2\, 1… LIFTOFF! || The Thinker Lab\, Varese
DESCRIPTION:Rocket LAB – Una serata tra esperimenti\, razzi e stelle!\nCostruisci\, lancia\, impara… e vola!\nMercoledì 9 luglio 2025\, preparati a un’avventura spaziale unica: il Rocket LAB sta per decollare! Un laboratorio all’aria aperta dedicato a tutti gli appassionati dello spazio\, dai 7 anni in su\, per scoprire i segreti del volo… con razzi veri! \n📍 L’appuntamento è presso la palestra di Valle Olona a Varese\, con ritrovo alle 18:45. Da lì ci si sposterà in auto (3 minuti) fino al suggestivo campo di aeromodellismo di Velmaio\, tra Arcisate e Varese\, dove prenderà il via una serata carica di energia e meraviglia. \nCosa farai?\n✨ Costruirai con le tue mani due tipologie di razzi: \n\n\na propulsione solida \n\n\na propulsione ad acqua \n\n\nLi lancerai nel cielo estivo\, osservandone volo\, velocità e traiettoria.🎯 Scoprirai con prove pratiche quale razzo vola più in alto\, quale è più veloce e perché. \nUn’esperienza interattiva dove fisica\, ingegneria e creatività si incontrano tra esperimenti\, domande curiose e tantissimo divertimento.Perfetto per bambini\, genitori e aspiranti astronauti\, questo laboratorio ti farà scoprire quanto è entusiasmante imparare… quando si gioca con l’universo! \nDove:Ritrovo ore 18:45 – Piazza Don L. Gabbani 1\, Varese (palestra Valle Olona)Spostamento in auto (3 minuti) verso il campovolo di Velmaio \nQuando:Mercoledì 9 luglio\, dalle 19:00 alle 20:15 \n👧👦 Età consigliata: da 7 anni in su🎟 Costo: €20\,00 (da versare in loco) \n📌 Prenotazione obbligatoria – I posti sono limitati!🛰️ Iscriviti subito tramite il form sul sito Thinker Lab \n🧑‍🚀 Accendi la tua curiosità e preparati al conto alla rovesciaRocket LAB è molto più di un laboratorio: è un’esperienza educativa e spettacolare\, pensata per far brillare negli occhi dei più giovani la passione per la scienza e il desiderio di esplorare… proprio come veri astronauti.
URL:https://connectingkids.it/evento/3-2-1-liftoff-the-thinker-lab-varese/
LOCATION:Palestra di Valle Olona\, Piazza Don L. Gabbani\, 1\, Varese\, VA\, 21100\, Italy
CATEGORIES:Educazione e Formazione,Laboratori scientifici,Scienza e tecnologia,STEAM,Workshop educativi
ATTACH;FMTTYPE=image/jpeg:https://connectingkids.it/wp-content/uploads/2025/07/1-2.jpg
END:VEVENT
END:VCALENDAR