BEGIN:VCALENDAR
VERSION:2.0
PRODID:-//Connecting Kids - ECPv6.15.20//NONSGML v1.0//EN
CALSCALE:GREGORIAN
METHOD:PUBLISH
X-ORIGINAL-URL:https://connectingkids.it
X-WR-CALDESC:Eventi per Connecting Kids
REFRESH-INTERVAL;VALUE=DURATION:PT1H
X-Robots-Tag:noindex
X-PUBLISHED-TTL:PT1H
BEGIN:VTIMEZONE
TZID:Europe/Rome
BEGIN:DAYLIGHT
TZOFFSETFROM:+0100
TZOFFSETTO:+0200
TZNAME:CEST
DTSTART:20240331T010000
END:DAYLIGHT
BEGIN:STANDARD
TZOFFSETFROM:+0200
TZOFFSETTO:+0100
TZNAME:CET
DTSTART:20241027T010000
END:STANDARD
BEGIN:DAYLIGHT
TZOFFSETFROM:+0100
TZOFFSETTO:+0200
TZNAME:CEST
DTSTART:20250330T010000
END:DAYLIGHT
BEGIN:STANDARD
TZOFFSETFROM:+0200
TZOFFSETTO:+0100
TZNAME:CET
DTSTART:20251026T010000
END:STANDARD
BEGIN:DAYLIGHT
TZOFFSETFROM:+0100
TZOFFSETTO:+0200
TZNAME:CEST
DTSTART:20260329T010000
END:DAYLIGHT
BEGIN:STANDARD
TZOFFSETFROM:+0200
TZOFFSETTO:+0100
TZNAME:CET
DTSTART:20261025T010000
END:STANDARD
END:VTIMEZONE
BEGIN:VEVENT
DTSTART;TZID=Europe/Rome:20250527T200000
DTEND;TZID=Europe/Rome:20250527T210000
DTSTAMP:20260420T202718
CREATED:20250402T071917Z
LAST-MODIFIED:20250424T145903Z
UID:10001390-1748376000-1748379600@connectingkids.it
SUMMARY:Guida una macchinina radiocomandata su pista con Varese Corsi
DESCRIPTION:Sfreccia in pista con Varese Corsi! Guida una macchinina radiocomandata su un vero circuito \nDal 29 aprile 2025\nOgni martedì\, dalle 20:00 alle 21:00Mini Autodromo “La Valletta”\, Varese (quartiere Besozzo) \nHai mai sognato di guidare su una pista da corsa? Con il corso “Guida una macchinina radiocomandata” di Varese Corsi\, il divertimento è garantito per piloti di tutte le età! \nUn corso per piccoli e grandi piloti (8-99 anni)Un vero circuito professionale per modelli radiocomandatiLezioni teoriche e pratiche con istruttori espertiSfide\, miglioramento dei tempi e tecniche di guida avanzate \nDurante le cinque lezioni\, i partecipanti scopriranno come funzionano le auto RC elettriche\, impareranno a controllarle su pista e a perfezionare le loro traiettorie\, tutto in un ambiente coinvolgente e dinamico. \nTutti i materiali verranno forniti dall’insegnante!Iscrizioni aperte! Un’opportunità unica per mettersi alla prova\, affinare la tecnica e vivere l’adrenalina della corsa in miniatura! \nPrenota subito il tuo posto e preparati a scendere in pista!\nPER ISCRIVERTI\, CLICCA QUI!
URL:https://connectingkids.it/evento/guida-una-macchinina-radiocomandata-su-pista-con-varese-corsi/2025-05-27/
LOCATION:Mini Autodromo “La Valletta”\, Largo Gajard\, Varese\, VA\, 21100\, Italy
CATEGORIES:Gioco e Divertimento,Robotica e coding,Scienza e tecnologia,STEAM
ATTACH;FMTTYPE=image/png:https://connectingkids.it/wp-content/uploads/2025/04/5.png
ORGANIZER;CN="varese corsi":MAILTO:info@varese-corsi.it
END:VEVENT
END:VCALENDAR