BEGIN:VCALENDAR
VERSION:2.0
PRODID:-//Connecting Kids - ECPv6.15.20//NONSGML v1.0//EN
CALSCALE:GREGORIAN
METHOD:PUBLISH
X-ORIGINAL-URL:https://connectingkids.it
X-WR-CALDESC:Eventi per Connecting Kids
REFRESH-INTERVAL;VALUE=DURATION:PT1H
X-Robots-Tag:noindex
X-PUBLISHED-TTL:PT1H
BEGIN:VTIMEZONE
TZID:Europe/Rome
BEGIN:DAYLIGHT
TZOFFSETFROM:+0100
TZOFFSETTO:+0200
TZNAME:CEST
DTSTART:20240331T010000
END:DAYLIGHT
BEGIN:STANDARD
TZOFFSETFROM:+0200
TZOFFSETTO:+0100
TZNAME:CET
DTSTART:20241027T010000
END:STANDARD
BEGIN:DAYLIGHT
TZOFFSETFROM:+0100
TZOFFSETTO:+0200
TZNAME:CEST
DTSTART:20250330T010000
END:DAYLIGHT
BEGIN:STANDARD
TZOFFSETFROM:+0200
TZOFFSETTO:+0100
TZNAME:CET
DTSTART:20251026T010000
END:STANDARD
BEGIN:DAYLIGHT
TZOFFSETFROM:+0100
TZOFFSETTO:+0200
TZNAME:CEST
DTSTART:20260329T010000
END:DAYLIGHT
BEGIN:STANDARD
TZOFFSETFROM:+0200
TZOFFSETTO:+0100
TZNAME:CET
DTSTART:20261025T010000
END:STANDARD
END:VTIMEZONE
BEGIN:VEVENT
DTSTART;TZID=Europe/Rome:20250406T093000
DTEND;TZID=Europe/Rome:20250406T123000
DTSTAMP:20260421T035113
CREATED:20250328T195539Z
LAST-MODIFIED:20250328T195540Z
UID:10001383-1743931800-1743942600@connectingkids.it
SUMMARY:Condominio degli aironi - Palude Brabbia
DESCRIPTION:Alla Scoperta dell’Avifauna della Riserva\nArmati di binocoli (e se non ne hai uno\, te lo prestiamo noi)\, ci inoltreremo nella zona di riserva integrale attraverso una semplice e piacevole passeggiata per osservare l’avifauna che\, insieme al bosco e ai prati circostanti\, si è risvegliata. \nGli eleganti ardeidi\, rappresentati in oasi dagli aironi cenerini\, sono già indaffarati nella “garzaia”\, il loro nido collettivo che ricorda un vero e proprio condominio animato. Proseguiremo fino alla torretta di osservazione\, dove potremo ammirare splendidi rapaci come il falco di palude e le comuni poiane\, oltre alle coloratissime anatidi che popolano gli specchi d’acqua della riserva. \nInformazioni sull’evento\n🔎 Età consigliata: adulti e bambini dai 9 anni in su\n⏳ Durata: circa 3 ore\n💰 Quota di partecipazione: 6€ adulti\, 4€ bambini e soci LIPU con tessera in regola (pagamento in contanti)\n👟 Si consigliano scarponcini e binocolo\n📩 Prenotazione obbligatoria: in caso di impossibilità a partecipare\, vi chiediamo di avvisare via mail all’indirizzo oasi.brabbia@lipu.it entro le 12:00 del giorno precedente.\n☔ In caso di maltempo\, l’evento sarà annullato.\n📍 Ritrovo: Centro Visite della Riserva – Via Patrioti 22\, Inarzo (VA)\n🚗 Parcheggi: disponibili davanti al Centro Visite o vicino alla chiesa di Inarzo (3 minuti a piedi) \nUn’occasione imperdibile per osservare da vicino la vita degli uccelli della riserva e godere della bellezza della natura! Vi aspettiamo!
URL:https://connectingkids.it/evento/condominio-degli-aironi-palude-brabbia/
LOCATION:OASI LIPU PALUDE BRABBIA\, Via Patrioti\, 22\, Inarzo\, 21020\, Italy
CATEGORIES:Attività all'aperto,Educazione ambientale,Escursioni e Natura,Natura e Ambiente,Sport e Attività Fisica,Visite guidate
ATTACH;FMTTYPE=image/webp:https://connectingkids.it/wp-content/uploads/2025/03/IMG_0377Graureiher_Auschnitt_2_rechts_900_2__Michael_Schwarz_@2x.webp
ORGANIZER;CN="OASI LIPU PALUDE BRABBIA":MAILTO:oasi.brabbia@lipu.it
END:VEVENT
BEGIN:VEVENT
DTSTART;TZID=Europe/Rome:20250330T150000
DTEND;TZID=Europe/Rome:20250330T170000
DTSTAMP:20260421T035113
CREATED:20250326T081656Z
LAST-MODIFIED:20250326T112506Z
UID:10001363-1743346800-1743354000@connectingkids.it
SUMMARY:Inaugurazione della Sala "Il Museo nel Museo"
DESCRIPTION:Inaugurazione della Sala “Il Museo nel Museo” – Un Viaggio nella Natura Attraverso gli Occhi dei Bambini\nL’Associazione Tana APS\, in collaborazione con le classi quinte delle scuole elementari di Clivio\, è lieta di invitare la comunità all’inaugurazione della sala “Il Museo nel Museo”\, dal titolo “Dalle tasche dei bambini al museo” che rimarrà aperto fino a fine maggio! \nDettagli dell’Evento\n📅 Domenica 30 marzo  🕒 Ore 15.00\n📍 Civico Museo Insubrico di Storia Naturale di Clivio \nUn Progetto Educativo e Scientifico\nQuesto straordinario progetto nasce dall’entusiasmo e dalla curiosità dei bambini di classe quinta delle elementari di Clivio\, che hanno svolto un lavoro di raccolta\, indagine\, studio e catalogazione di elementi naturali trovati durante le loro passeggiate nel territorio. Un percorso che ha trasformato piccoli tesori nascosti in vere e proprie testimonianze scientifiche.\nDurante l’inaugurazione\, i ragazzi racconteranno in prima persona la loro esperienza\, condividendo il loro viaggio di scoperta e apprendimento.\nUn’occasione unica per esplorare il mondo naturale attraverso gli occhi delle nuove generazioni!\nVi aspettiamo numerosi per celebrare insieme questa bellissima iniziativa! \n 
URL:https://connectingkids.it/evento/inaugurazione-della-sala-il-museo-nel-museo/
LOCATION:civico museo insubrico\, Via A. Manzoni\, 21\, Clivio\, VA\, 21050\, Italy
CATEGORIES:Educazione ambientale,Educazione e Formazione,Escursioni e Natura,Natura e Ambiente,Visite guidate
ATTACH;FMTTYPE=image/png:https://connectingkids.it/wp-content/uploads/2025/03/Progetto-senza-titolo-4.png
END:VEVENT
END:VCALENDAR