BEGIN:VCALENDAR
VERSION:2.0
PRODID:-//Connecting Kids - ECPv6.15.20//NONSGML v1.0//EN
CALSCALE:GREGORIAN
METHOD:PUBLISH
X-ORIGINAL-URL:https://connectingkids.it
X-WR-CALDESC:Eventi per Connecting Kids
REFRESH-INTERVAL;VALUE=DURATION:PT1H
X-Robots-Tag:noindex
X-PUBLISHED-TTL:PT1H
BEGIN:VTIMEZONE
TZID:Europe/Rome
BEGIN:DAYLIGHT
TZOFFSETFROM:+0100
TZOFFSETTO:+0200
TZNAME:CEST
DTSTART:20240331T010000
END:DAYLIGHT
BEGIN:STANDARD
TZOFFSETFROM:+0200
TZOFFSETTO:+0100
TZNAME:CET
DTSTART:20241027T010000
END:STANDARD
BEGIN:DAYLIGHT
TZOFFSETFROM:+0100
TZOFFSETTO:+0200
TZNAME:CEST
DTSTART:20250330T010000
END:DAYLIGHT
BEGIN:STANDARD
TZOFFSETFROM:+0200
TZOFFSETTO:+0100
TZNAME:CET
DTSTART:20251026T010000
END:STANDARD
BEGIN:DAYLIGHT
TZOFFSETFROM:+0100
TZOFFSETTO:+0200
TZNAME:CEST
DTSTART:20260329T010000
END:DAYLIGHT
BEGIN:STANDARD
TZOFFSETFROM:+0200
TZOFFSETTO:+0100
TZNAME:CET
DTSTART:20261025T010000
END:STANDARD
END:VTIMEZONE
BEGIN:VEVENT
DTSTART;TZID=Europe/Rome:20250508T160000
DTEND;TZID=Europe/Rome:20250508T180000
DTSTAMP:20260420T221441
CREATED:20250410T152629Z
LAST-MODIFIED:20250410T152629Z
UID:10001411-1746720000-1746727200@connectingkids.it
SUMMARY:BOOK CLUB - Vergiate
DESCRIPTION:Scopri il tuo stile di lettore con il Book Club Junior di Vergiate!\nHai tra gli 11 e i 14 anni e ami i libri o sei curioso di scoprire quali storie fanno per te? Allora il Book Club Junior è l’occasione perfetta per te! La Biblioteca “E. Baj” di Vergiate lancia un’iniziativa dedicata ai giovani lettori: un laboratorio coinvolgente per scegliere insieme le letture estive e scoprire il proprio profilo di lettore. \nCosa ti aspetta: Durante gli incontri\, potrai confrontarti con altri ragazzi e ragazze\, esplorare generi letterari diversi e lasciarti ispirare da nuove storie. L’iniziativa\, promossa in collaborazione con il CAG (Centro di Aggregazione Giovanile)\, è guidata da Carmen Bucca\, esperta nel promuovere il piacere della lettura tra i più giovani. \n Date degli incontri: \n\n20 marzo\n8 maggio\n\nOre 16:00Biblioteca “E. Baj” – Comune di Vergiate \n Info e contatti: \n\nTelefono: 0331 964120\nEmail: cultura@comune.vergiate.va.it\n\nIl progetto è realizzato con il contributo di Fondazione Cariplo\, nell’ambito del più ampio programma “Per contaminazione il piacere della lettura un contagio da diffondere”\, che mira a promuovere la lettura come esperienza condivisa e coinvolgente. \nNon perdere l’occasione di conoscere altri giovani lettori e iniziare l’estate con una valigia piena di storie!
URL:https://connectingkids.it/evento/book-club-vergiate/
LOCATION:biblioteca vergiate\, Piazza Enrico Baj\, Vergiate\, VA\, 21029\, Italy
CATEGORIES:Gratis,Lettura e Letteratura
ATTACH;FMTTYPE=image/png:https://connectingkids.it/wp-content/uploads/2025/04/Progetto-senza-titolo.png
END:VEVENT
END:VCALENDAR