BEGIN:VCALENDAR
VERSION:2.0
PRODID:-//Connecting Kids - ECPv6.15.20//NONSGML v1.0//EN
CALSCALE:GREGORIAN
METHOD:PUBLISH
X-ORIGINAL-URL:https://connectingkids.it
X-WR-CALDESC:Eventi per Connecting Kids
REFRESH-INTERVAL;VALUE=DURATION:PT1H
X-Robots-Tag:noindex
X-PUBLISHED-TTL:PT1H
BEGIN:VTIMEZONE
TZID:Europe/Rome
BEGIN:DAYLIGHT
TZOFFSETFROM:+0100
TZOFFSETTO:+0200
TZNAME:CEST
DTSTART:20240331T010000
END:DAYLIGHT
BEGIN:STANDARD
TZOFFSETFROM:+0200
TZOFFSETTO:+0100
TZNAME:CET
DTSTART:20241027T010000
END:STANDARD
BEGIN:DAYLIGHT
TZOFFSETFROM:+0100
TZOFFSETTO:+0200
TZNAME:CEST
DTSTART:20250330T010000
END:DAYLIGHT
BEGIN:STANDARD
TZOFFSETFROM:+0200
TZOFFSETTO:+0100
TZNAME:CET
DTSTART:20251026T010000
END:STANDARD
BEGIN:DAYLIGHT
TZOFFSETFROM:+0100
TZOFFSETTO:+0200
TZNAME:CEST
DTSTART:20260329T010000
END:DAYLIGHT
BEGIN:STANDARD
TZOFFSETFROM:+0200
TZOFFSETTO:+0100
TZNAME:CET
DTSTART:20261025T010000
END:STANDARD
END:VTIMEZONE
BEGIN:VEVENT
DTSTART;TZID=Europe/Rome:20250316T094500
DTEND;TZID=Europe/Rome:20250316T130000
DTSTAMP:20260424T162839
CREATED:20250222T085604Z
LAST-MODIFIED:20250222T090536Z
UID:10001226-1742118300-1742130000@connectingkids.it
SUMMARY:Rassegna Burattini in città 2025 - Varese
DESCRIPTION:“Burattini in Città” torna a Varese: al via la terza edizione della rassegna teatrale per famiglie\nDopo il successo delle passate edizioni\, torna a Varese “Burattini in Città”\, la rassegna dedicata al teatro di figura che incanta grandi e piccoli. Il festival\, ospitato dal Multisala Impero di Varese\, si svolgerà per cinque domeniche consecutive\, proponendo doppio spettacolo alle 9:45 e alle 11:30. \n📢 Un appuntamento sempre più attesoL’evento è diventato un riferimento per il pubblico varesino e non solo. Lo conferma anche l’Assessore alla Cultura di Varese\, Enzo Laforgia\, che sottolinea l’importanza di questa iniziativa:“Mancava a Varese un’esperienza del genere. Ogni anno Chicco Colombo riesce a mettere insieme un programma interessante e di grande successo. Questa rassegna è un tassello importante di un progetto più ampio che punta ad avvicinare il pubblico al teatro\, estendendo la stagione teatrale cittadina da ottobre fino a luglio”. \n🎭 Un programma ricco di novitàPer questa terza edizione\, “Burattini in Città” ha scelto di allargare i propri orizzonti\, coinvolgendo giovani artisti da tutta Italia e ospitando la storica Compagnia Corniani\, che proprio quest’anno festeggia 80 anni di attività. \n🎟 Biglietti e prenotazioniI biglietti per gli spettacoli saranno presto disponibili online sul sito del Multisala Impero e acquistabili direttamente in cassa. \nProgramma \ndomenica 2 marzo\nFagiolino nel bosco incantato\nCompagnia Corniani – Mantova \n  \ndomenica 16 marzo\nMeneghino nel regno dei sempreallegri\nCompagnia Burattini – Milano \n  \nIngresso: posto unico € 8\nPrevendite presso la biglietteria del multisala\nda lunedì a venerdì dalle 17.00 alle 21.30 | sabato e domenica dalle 15.30 alle 22.00 \ne su www.multisalaimpero.com\nInfo: +39 0332 284004
URL:https://connectingkids.it/evento/rassegna-burattini-in-citta-2025-varese/2025-03-16/
LOCATION:MIV\, Via Giuseppe Bernascone\, 13\,\, Varese\, 21100\, Italy
CATEGORIES:Cultura e Tradizioni,Marionette e burattini,Musica e Spettacolo
ATTACH;FMTTYPE=image/jpeg:https://connectingkids.it/wp-content/uploads/2025/02/Locandina-Burattini-a-Varese.jpg
END:VEVENT
END:VCALENDAR