BEGIN:VCALENDAR
VERSION:2.0
PRODID:-//Connecting Kids - ECPv6.15.20//NONSGML v1.0//EN
CALSCALE:GREGORIAN
METHOD:PUBLISH
X-WR-CALNAME:Connecting Kids
X-ORIGINAL-URL:https://connectingkids.it
X-WR-CALDESC:Eventi per Connecting Kids
REFRESH-INTERVAL;VALUE=DURATION:PT1H
X-Robots-Tag:noindex
X-PUBLISHED-TTL:PT1H
BEGIN:VTIMEZONE
TZID:Europe/Rome
BEGIN:DAYLIGHT
TZOFFSETFROM:+0100
TZOFFSETTO:+0200
TZNAME:CEST
DTSTART:20240331T010000
END:DAYLIGHT
BEGIN:STANDARD
TZOFFSETFROM:+0200
TZOFFSETTO:+0100
TZNAME:CET
DTSTART:20241027T010000
END:STANDARD
BEGIN:DAYLIGHT
TZOFFSETFROM:+0100
TZOFFSETTO:+0200
TZNAME:CEST
DTSTART:20250330T010000
END:DAYLIGHT
BEGIN:STANDARD
TZOFFSETFROM:+0200
TZOFFSETTO:+0100
TZNAME:CET
DTSTART:20251026T010000
END:STANDARD
BEGIN:DAYLIGHT
TZOFFSETFROM:+0100
TZOFFSETTO:+0200
TZNAME:CEST
DTSTART:20260329T010000
END:DAYLIGHT
BEGIN:STANDARD
TZOFFSETFROM:+0200
TZOFFSETTO:+0100
TZNAME:CET
DTSTART:20261025T010000
END:STANDARD
END:VTIMEZONE
BEGIN:VEVENT
DTSTART;TZID=Europe/Rome:20251116T163000
DTEND;TZID=Europe/Rome:20251116T180000
DTSTAMP:20260419T155036
CREATED:20251109T110753Z
LAST-MODIFIED:20251111T174554Z
UID:10001609-1763310600-1763316000@connectingkids.it
SUMMARY:Bolle magiche: la scienza del sapone || The Thinker Lab\, Varese
DESCRIPTION:🫧 Bolle magiche: la scienza del sapone\n📅 Domenica 16 novembre 2025🕟 Dalle 16:30 alle 18:00📍 Thinker Lab – Via Cairoli 5\, Varese(parcheggio consigliato: Lidl di via Carcano\, gratuiti i primi 120 min) \n🔬 La scienza delle bolle di sapone\nGiochiamo con le bolle e scopriamo la loro magia scientifica!Con l’aiuto dell’esperta Angela\, i bambini esploreranno: \n\n✨ Come nascono le bolle\n🎨 Perché sono colorate\n💨 Cosa le rende così leggere e perfette\n\nTra esperimenti\, colori e glitter\, ogni partecipante creerà la propria boccetta di bolle personalizzata! \n👧 Età consigliata\n6 – 11 anni \n💰 Costo\n13€\, da versare in loco. \n📋 Info pratiche\n\n🔢 Posti disponibili: 12\n⏰ 6 giorni rimanenti per prenotare\n📱 Prenotazione obbligatoria tramite form dedicato\n\n👩‍🔬 Chi terrà il laboratorio\nIl laboratorio sarà condotto dall’esperta Angela\, che trasforma ogni attività scientifica in un’esperienza divertente\, pratica e piena di meraviglia.
URL:https://connectingkids.it/evento/bolle-magiche-la-scienza-del-sapone-the-thinker-lab-varese/
LOCATION:The Thinker Lab\, via Cairoli 5\, Varese\, Italy
CATEGORIES:Laboratori scientifici,Scienza e tecnologia,STEAM
ATTACH;FMTTYPE=image/jpeg:https://connectingkids.it/wp-content/uploads/2025/11/2-2.jpg
END:VEVENT
END:VCALENDAR