BEGIN:VCALENDAR
VERSION:2.0
PRODID:-//Connecting Kids - ECPv6.15.20//NONSGML v1.0//EN
CALSCALE:GREGORIAN
METHOD:PUBLISH
X-WR-CALNAME:Connecting Kids
X-ORIGINAL-URL:https://connectingkids.it
X-WR-CALDESC:Eventi per Connecting Kids
REFRESH-INTERVAL;VALUE=DURATION:PT1H
X-Robots-Tag:noindex
X-PUBLISHED-TTL:PT1H
BEGIN:VTIMEZONE
TZID:Europe/Rome
BEGIN:DAYLIGHT
TZOFFSETFROM:+0100
TZOFFSETTO:+0200
TZNAME:CEST
DTSTART:20240331T010000
END:DAYLIGHT
BEGIN:STANDARD
TZOFFSETFROM:+0200
TZOFFSETTO:+0100
TZNAME:CET
DTSTART:20241027T010000
END:STANDARD
BEGIN:DAYLIGHT
TZOFFSETFROM:+0100
TZOFFSETTO:+0200
TZNAME:CEST
DTSTART:20250330T010000
END:DAYLIGHT
BEGIN:STANDARD
TZOFFSETFROM:+0200
TZOFFSETTO:+0100
TZNAME:CET
DTSTART:20251026T010000
END:STANDARD
BEGIN:DAYLIGHT
TZOFFSETFROM:+0100
TZOFFSETTO:+0200
TZNAME:CEST
DTSTART:20260329T010000
END:DAYLIGHT
BEGIN:STANDARD
TZOFFSETFROM:+0200
TZOFFSETTO:+0100
TZNAME:CET
DTSTART:20261025T010000
END:STANDARD
END:VTIMEZONE
BEGIN:VEVENT
DTSTART;TZID=Europe/Rome:20250301T150000
DTEND;TZID=Europe/Rome:20250413T180000
DTSTAMP:20260425T173956
CREATED:20250328T145533Z
LAST-MODIFIED:20250415T102620Z
UID:10001366-1740841200-1744567200@connectingkids.it
SUMMARY:Mostra gratuita "I Pianeti" a Carnago
DESCRIPTION:“I Pianeti” sbarcano a Carnago: un’esplorazione gratuita tra stelle e mondi lontani\nDal 1° marzo al 13 aprile 2025\, la suggestiva Chiesa di San Rocco in via Italia a Carnago (VA) diventa la porta d’accesso a un affascinante viaggio tra i corpi celesti del sistema solare. Con la mostra gratuita “I Pianeti”\, adulti e bambini potranno avventurarsi tra orbite e galassie senza mai lasciare la Terra. \n🌠 Un viaggio astronomico per curiosi di tutte le età\nL’esposizione\, curata con passione dal Gruppo Astronomico Tradatese\, propone oltre venti pannelli illustrativi\, ricchi di informazioni\, immagini e curiosità sul Sole\, i pianeti e le meraviglie dell’universo.Grazie alla tecnologia\, ogni contenuto è accompagnato da un audioguida attivabile via QR code\, così che i visitatori possano ascoltare racconti e spiegazioni direttamente dal proprio smartphone\, rendendo l’esperienza coinvolgente e accessibile. \n🔭 Un’opportunità educativa e immersiva\nPerfetta per scolaresche\, famiglie e appassionati di spazio\, questa mostra è un’occasione per scoprire i misteri dell’astronomia\, approfondire le scoperte scientifiche più affascinanti e lasciarsi ispirare dalla grandezza del cosmo. \n🕒 Orari di apertura\n\n\nVenerdì e sabato: 15:00 – 18:00 \n\n\nDomenica: 10:00 – 12:00 e 15:00 – 18:00 \n\n\nVisite guidate infrasettimanali su prenotazione📞 Tel: 339 8159654📧 Email: proloco.carnago@tiscali.it \n\n\n🎟️ Ingresso gratuito\nNon lasciarti sfuggire l’occasione di ammirare l’universo da vicino e scoprire quanto sia straordinario il cielo sopra di noi. Ti aspettiamo per un viaggio… spaziale! 🌌🚀
URL:https://connectingkids.it/evento/mostra-gratuita-i-pianeti-a-carnago/
LOCATION:Chiesa S. Rocco Carnago\, via Italia\, Carnago\, VA\, Italy
CATEGORIES:Educazione e Formazione,Gratis,Visite guidate,Workshop educativi
ATTACH;FMTTYPE=image/webp:https://connectingkids.it/wp-content/uploads/2025/03/mostra-i-pianeti-carnago-efbe4133.webp
END:VEVENT
END:VCALENDAR