BEGIN:VCALENDAR
VERSION:2.0
PRODID:-//Connecting Kids - ECPv6.15.20//NONSGML v1.0//EN
CALSCALE:GREGORIAN
METHOD:PUBLISH
X-WR-CALNAME:Connecting Kids
X-ORIGINAL-URL:https://connectingkids.it
X-WR-CALDESC:Eventi per Connecting Kids
REFRESH-INTERVAL;VALUE=DURATION:PT1H
X-Robots-Tag:noindex
X-PUBLISHED-TTL:PT1H
BEGIN:VTIMEZONE
TZID:Europe/Rome
BEGIN:DAYLIGHT
TZOFFSETFROM:+0100
TZOFFSETTO:+0200
TZNAME:CEST
DTSTART:20240331T010000
END:DAYLIGHT
BEGIN:STANDARD
TZOFFSETFROM:+0200
TZOFFSETTO:+0100
TZNAME:CET
DTSTART:20241027T010000
END:STANDARD
BEGIN:DAYLIGHT
TZOFFSETFROM:+0100
TZOFFSETTO:+0200
TZNAME:CEST
DTSTART:20250330T010000
END:DAYLIGHT
BEGIN:STANDARD
TZOFFSETFROM:+0200
TZOFFSETTO:+0100
TZNAME:CET
DTSTART:20251026T010000
END:STANDARD
BEGIN:DAYLIGHT
TZOFFSETFROM:+0100
TZOFFSETTO:+0200
TZNAME:CEST
DTSTART:20260329T010000
END:DAYLIGHT
BEGIN:STANDARD
TZOFFSETFROM:+0200
TZOFFSETTO:+0100
TZNAME:CET
DTSTART:20261025T010000
END:STANDARD
END:VTIMEZONE
BEGIN:VEVENT
DTSTART;TZID=Europe/Rome:20250628T160000
DTEND;TZID=Europe/Rome:20250628T230000
DTSTAMP:20260422T004916
CREATED:20250623T095311Z
LAST-MODIFIED:20250623T095312Z
UID:10001491-1751126400-1751151600@connectingkids.it
SUMMARY:Notte Bianca del Lettore 2025 || Varese
DESCRIPTION:Notte Bianca del Lettore 2025 – Dracula e altri vampiri\nUna serata gratuita di cultura\, mistero e spettacolo per tutte le età\nSabato 28 giugno 2025\, la Biblioteca Civica e i Giardini Estensi di Varese ospitano la quarta edizione della Notte Bianca del Lettore\, un evento gratuito e ricco di iniziative che quest’anno ruota attorno alla figura affascinante e inquietante del vampiro. \nAttività pomeridiane (dalle 15.30)\n\nLaboratorio “Il Castello dei Vampiri” (6–12 anni): costruzione di castelli gotici con materiali di recupero.\nVampiri energetici (16+): incontro psicologico sulle relazioni tossiche.\nIndagine sul Vampiro (16+): viaggio tra archeologia\, cronache e superstizione con l’antropologo Matteo Borrini.\nNel cuore di Dampyr: incontro con il regista Riccardo Chemello e lo sceneggiatore Alberto Ostini.\nLettura teatrale itinerante di Dracula: narrazione animata nei sotterranei della biblioteca.\nCinema e identità: analisi del vampiro sul grande schermo con la critica Gabriella Giliberti.\n\nProgramma serale e notturno (dalle 20.00)\n\nFuga dal Castello di Dracula: gioco di ruolo immersivo tra enigmi e scenari gotici (12+).\nVampiri in natura: dialogo con due biologi su pipistrelli\, zanzare e altri veri ematofagi\, accompagnato da degustazione di infusi rossi.\nLetture notturne di Dracula: proseguimento della narrazione in chiave teatrale in diversi momenti della sera.\nProiezione di Dampyr (14+): film fantasy all’aperto con introduzione degli autori.\nNosferatu con sonorizzazione elettronica live (18+): classico del cinema muto accompagnato da musica dal vivo\, in chiusura notturna.\n\n📍 Dove: Biblioteca Civica e Giardini Estensi\, Varese🎟 Ingresso gratuito | Prenotazione consigliata per alcune attività \nUn evento per tuttiLa Notte Bianca del Lettore è promossa dal Comune di Varese e fa parte del progetto Biblio Hub\, finanziato dal Dipartimento per le Politiche Giovanili.
URL:https://connectingkids.it/evento/notte-bianca-del-lettore-2025-varese/
LOCATION:Palazzo estense\, Via Luigi Sacco\, 5\, Varese\, VA\, 21100\, Italy
CATEGORIES:Feste e sagre,Fiere del libro,Gioco e Divertimento,Gratis,Lettura e Letteratura,Musica e Spettacolo
ATTACH;FMTTYPE=image/png:https://connectingkids.it/wp-content/uploads/2025/06/foto-header-2.png
END:VEVENT
END:VCALENDAR