BEGIN:VCALENDAR
VERSION:2.0
PRODID:-//Connecting Kids - ECPv6.15.20//NONSGML v1.0//EN
CALSCALE:GREGORIAN
METHOD:PUBLISH
X-ORIGINAL-URL:https://connectingkids.it
X-WR-CALDESC:Eventi per Connecting Kids
REFRESH-INTERVAL;VALUE=DURATION:PT1H
X-Robots-Tag:noindex
X-PUBLISHED-TTL:PT1H
BEGIN:VTIMEZONE
TZID:Europe/Rome
BEGIN:DAYLIGHT
TZOFFSETFROM:+0100
TZOFFSETTO:+0200
TZNAME:CEST
DTSTART:20240331T010000
END:DAYLIGHT
BEGIN:STANDARD
TZOFFSETFROM:+0200
TZOFFSETTO:+0100
TZNAME:CET
DTSTART:20241027T010000
END:STANDARD
BEGIN:DAYLIGHT
TZOFFSETFROM:+0100
TZOFFSETTO:+0200
TZNAME:CEST
DTSTART:20250330T010000
END:DAYLIGHT
BEGIN:STANDARD
TZOFFSETFROM:+0200
TZOFFSETTO:+0100
TZNAME:CET
DTSTART:20251026T010000
END:STANDARD
BEGIN:DAYLIGHT
TZOFFSETFROM:+0100
TZOFFSETTO:+0200
TZNAME:CEST
DTSTART:20260329T010000
END:DAYLIGHT
BEGIN:STANDARD
TZOFFSETFROM:+0200
TZOFFSETTO:+0100
TZNAME:CET
DTSTART:20261025T010000
END:STANDARD
END:VTIMEZONE
BEGIN:VEVENT
DTSTART;TZID=Europe/Rome:20250711T173000
DTEND;TZID=Europe/Rome:20250711T183000
DTSTAMP:20260420T182708
CREATED:20250703T080656Z
LAST-MODIFIED:20250703T080657Z
UID:10001510-1752255000-1752258600@connectingkids.it
SUMMARY:Corso di lingua giapponese || The Thinker Lab\, Varese
DESCRIPTION:Mini corso di lingua giapponese – Un viaggio tra parole\, manga e curiosità!\nUn’esperienza interattiva per bambine e bambini dai 7 ai 12 anni\nHai mai sognato di capire una parola in giapponese guardando un anime? O di imparare a scrivere i tuoi primi ideogrammi?Dal 7 all’11 luglio 2025\, il Thinker Lab di Varese propone un mini corso di introduzione alla lingua giapponese\, pensato per bambini e bambine dai 7 ai 12 anni\, curiosi di esplorare nuovi mondi attraverso giochi\, immagini e parole. \nIn compagnia di Hiromi\, insegnante madrelingua\, i piccoli partecipanti si avvicineranno alla lingua giapponese in modo giocoso\, creativo e immersivo\, grazie a un mix di: \n\ngiochi linguistici\nletture di manga semplificati\nprime frasi da usare\nracconti e curiosità sulla vita e le abitudini in Giappone\n\n🗓 Quando?Lunedì 7\, mercoledì 9 e venerdì 11 luglio 2025🕠 Dalle 17:30 alle 18:30 \n📍 Dove?Thinker Lab – Via Cairoli 5\, Varese(Parcheggio consigliato: Lidl di via Carcano – primi 120 minuti gratuiti) \n👧👦 Età consigliata: dai 7 ai 12 anni🎟 Costo: €39 per l’intero corso (3 incontri)👉 €35 dal secondo figlio/figlia \n📌 Prenotazione obbligatoria – I posti sono limitati!📲 Iscrizioni tramite il form disponibile sul sito del Thinker Lab \n Imparare divertendosiQuesto mini corso non è solo un’introduzione alla lingua\, ma anche un invito a conoscere una cultura lontana e affascinante. Perfetto per allenare l’ascolto\, stimolare la curiosità e scoprire che… imparare il giapponese può essere più semplice (e divertente!) di quanto si pensi!
URL:https://connectingkids.it/evento/corso-di-lingua-giapponese-the-thinker-lab-varese/2025-07-11/
LOCATION:The Thinker Lab\, via Cairoli 5\, Varese\, Italy
CATEGORIES:Arte e Creatività,Corsi di lingue,Cultura e Tradizioni,Educazione e Formazione,STEAM
ATTACH;FMTTYPE=image/jpeg:https://connectingkids.it/wp-content/uploads/2025/07/1-1.jpg
END:VEVENT
END:VCALENDAR