BEGIN:VCALENDAR
VERSION:2.0
PRODID:-//Connecting Kids - ECPv6.15.20//NONSGML v1.0//EN
CALSCALE:GREGORIAN
METHOD:PUBLISH
X-ORIGINAL-URL:https://connectingkids.it
X-WR-CALDESC:Eventi per Connecting Kids
REFRESH-INTERVAL;VALUE=DURATION:PT1H
X-Robots-Tag:noindex
X-PUBLISHED-TTL:PT1H
BEGIN:VTIMEZONE
TZID:Europe/Rome
BEGIN:DAYLIGHT
TZOFFSETFROM:+0100
TZOFFSETTO:+0200
TZNAME:CEST
DTSTART:20240331T010000
END:DAYLIGHT
BEGIN:STANDARD
TZOFFSETFROM:+0200
TZOFFSETTO:+0100
TZNAME:CET
DTSTART:20241027T010000
END:STANDARD
BEGIN:DAYLIGHT
TZOFFSETFROM:+0100
TZOFFSETTO:+0200
TZNAME:CEST
DTSTART:20250330T010000
END:DAYLIGHT
BEGIN:STANDARD
TZOFFSETFROM:+0200
TZOFFSETTO:+0100
TZNAME:CET
DTSTART:20251026T010000
END:STANDARD
BEGIN:DAYLIGHT
TZOFFSETFROM:+0100
TZOFFSETTO:+0200
TZNAME:CEST
DTSTART:20260329T010000
END:DAYLIGHT
BEGIN:STANDARD
TZOFFSETFROM:+0200
TZOFFSETTO:+0100
TZNAME:CET
DTSTART:20261025T010000
END:STANDARD
END:VTIMEZONE
BEGIN:VEVENT
DTSTART;TZID=Europe/Rome:20250405T093000
DTEND;TZID=Europe/Rome:20250405T173000
DTSTAMP:20260421T210154
CREATED:20250317T111302Z
LAST-MODIFIED:20250415T102036Z
UID:10001333-1743845400-1743874200@connectingkids.it
SUMMARY:Grande festa del Castello delle Sorprese!
DESCRIPTION:🌟 Castello delle Sorprese 2025\nFavole\, incantesimi e giochi fantastici sulle rive del Lago Maggiore \n🗓️ Dettagli utili per partecipare\n📍 Luogo: Dimora storica di Oleggio Castello (a circa 35 minuti da Varese)📅 Date disponibili: 5-6 e 12-13 aprile + 21 aprile (apertura eccezionale a Pasquetta) 2025🕘 Orario di apertura: dalle 9:30 alle 17:30 – con intrattenimenti distribuiti per tutta la giornata♿ Accessibilità garantita: adatto a famiglie con bambini piccoli\, carrozzine\, persone con mobilità ridotta e amici a quattro zampe🎫 Biglietti flessibili: chi prenota in anticipo avrà diritto a un ingresso valido per 12 mesi in caso di impossibilità a partecipare🌐 Prenotazioni su: www.castellodellesorprese.it \n🐉 Creature immaginarie e incontri straordinari\nNel vasto parco del maniero potrete incontrare: \n\n🐱 Il gatto Teodoro\, simpatico poeta in versi\n🦄 Strane meraviglie come il pesce che bela o l’albero con zampe da papera\n🐲 Un enorme drago meccanico in movimento\, unico nel suo genere in Italia\n\n🎥 Inoltre\, sarà possibile registrare un video con il mantello dell’invisibilità e ricevere un ritratto personalizzato col Cappello Magico\, incluso per chi acquista online. \n👑 Favole reali per piccoli re e regine\nTutti i bambini potranno sentirsi protagonisti di una fiaba: \n\n💃 Una danza reale con una vera insegnante-principessa nella sala delle cerimonie\n✨ Incontri con i personaggi delle favole Disney in un raduno speciale\n📸 Una passerella fotografica sulla scalinata monumentale del castello\n🎨 Un laboratorio artistico per realizzare la propria corona decorata\n\n🎭 Spettacoli incantati e intrattenimenti magici\nLa giornata sarà animata da un programma ricco di attrazioni: \n\n🎼 Un concerto con brani tratti da celebri cartoni animati\n🎤 Un musical emozionante per tutta la famiglia\n🪄 Una vera scuola di magia\, con esperimenti\, duelli a colpi di bacchetta e pozioni fatate\n\n🏰 Un luogo incantato per vivere un’avventura unica\nNel cuore della natura e affacciato sul panorama mozzafiato del Lago Maggiore\, il castello ottocentesco diventa lo sfondo perfetto per una giornata tra realtà e immaginazione. Un parco da oltre 10.000 metri quadri\, popolato da personaggi fiabeschi e attrazioni sorprendenti\, accoglierà i visitatori in un universo di meraviglia. \n🎉 Preparati a entrare in un mondo dove tutto è possibile: tra sogni\, sorrisi e sorprese\, ogni famiglia vivrà una giornata da ricordare.Ti aspettiamo tra le mura del sogno! ✨🏰
URL:https://connectingkids.it/evento/grande-festa-del-castello-delle-sorprese/2025-04-05/
LOCATION:Castello delle sorprese\, Via dal Pozzo\, 24\, Oleggio Castello\, NO\, 28040
CATEGORIES:Arte e Creatività,Festa in costume,Festival di animazione,Gioco e Divertimento,Laboratori artistici,Musica e Spettacolo,Workshop manuali
ATTACH;FMTTYPE=image/webp:https://connectingkids.it/wp-content/uploads/2025/03/PERSONAGGICASTELLO2025-0085355d-640w.webp
END:VEVENT
BEGIN:VEVENT
DTSTART;TZID=Europe/Rome:20250406T093000
DTEND;TZID=Europe/Rome:20250406T173000
DTSTAMP:20260421T210154
CREATED:20250317T111302Z
LAST-MODIFIED:20250415T102036Z
UID:10001334-1743931800-1743960600@connectingkids.it
SUMMARY:Grande festa del Castello delle Sorprese!
DESCRIPTION:🌟 Castello delle Sorprese 2025\nFavole\, incantesimi e giochi fantastici sulle rive del Lago Maggiore \n🗓️ Dettagli utili per partecipare\n📍 Luogo: Dimora storica di Oleggio Castello (a circa 35 minuti da Varese)📅 Date disponibili: 5-6 e 12-13 aprile + 21 aprile (apertura eccezionale a Pasquetta) 2025🕘 Orario di apertura: dalle 9:30 alle 17:30 – con intrattenimenti distribuiti per tutta la giornata♿ Accessibilità garantita: adatto a famiglie con bambini piccoli\, carrozzine\, persone con mobilità ridotta e amici a quattro zampe🎫 Biglietti flessibili: chi prenota in anticipo avrà diritto a un ingresso valido per 12 mesi in caso di impossibilità a partecipare🌐 Prenotazioni su: www.castellodellesorprese.it \n🐉 Creature immaginarie e incontri straordinari\nNel vasto parco del maniero potrete incontrare: \n\n🐱 Il gatto Teodoro\, simpatico poeta in versi\n🦄 Strane meraviglie come il pesce che bela o l’albero con zampe da papera\n🐲 Un enorme drago meccanico in movimento\, unico nel suo genere in Italia\n\n🎥 Inoltre\, sarà possibile registrare un video con il mantello dell’invisibilità e ricevere un ritratto personalizzato col Cappello Magico\, incluso per chi acquista online. \n👑 Favole reali per piccoli re e regine\nTutti i bambini potranno sentirsi protagonisti di una fiaba: \n\n💃 Una danza reale con una vera insegnante-principessa nella sala delle cerimonie\n✨ Incontri con i personaggi delle favole Disney in un raduno speciale\n📸 Una passerella fotografica sulla scalinata monumentale del castello\n🎨 Un laboratorio artistico per realizzare la propria corona decorata\n\n🎭 Spettacoli incantati e intrattenimenti magici\nLa giornata sarà animata da un programma ricco di attrazioni: \n\n🎼 Un concerto con brani tratti da celebri cartoni animati\n🎤 Un musical emozionante per tutta la famiglia\n🪄 Una vera scuola di magia\, con esperimenti\, duelli a colpi di bacchetta e pozioni fatate\n\n🏰 Un luogo incantato per vivere un’avventura unica\nNel cuore della natura e affacciato sul panorama mozzafiato del Lago Maggiore\, il castello ottocentesco diventa lo sfondo perfetto per una giornata tra realtà e immaginazione. Un parco da oltre 10.000 metri quadri\, popolato da personaggi fiabeschi e attrazioni sorprendenti\, accoglierà i visitatori in un universo di meraviglia. \n🎉 Preparati a entrare in un mondo dove tutto è possibile: tra sogni\, sorrisi e sorprese\, ogni famiglia vivrà una giornata da ricordare.Ti aspettiamo tra le mura del sogno! ✨🏰
URL:https://connectingkids.it/evento/grande-festa-del-castello-delle-sorprese/2025-04-06/
LOCATION:Castello delle sorprese\, Via dal Pozzo\, 24\, Oleggio Castello\, NO\, 28040
CATEGORIES:Arte e Creatività,Festa in costume,Festival di animazione,Gioco e Divertimento,Laboratori artistici,Musica e Spettacolo,Workshop manuali
ATTACH;FMTTYPE=image/webp:https://connectingkids.it/wp-content/uploads/2025/03/PERSONAGGICASTELLO2025-0085355d-640w.webp
END:VEVENT
BEGIN:VEVENT
DTSTART;TZID=Europe/Rome:20250412T093000
DTEND;TZID=Europe/Rome:20250412T173000
DTSTAMP:20260421T210154
CREATED:20250317T111302Z
LAST-MODIFIED:20250415T102036Z
UID:10001335-1744450200-1744479000@connectingkids.it
SUMMARY:Grande festa del Castello delle Sorprese!
DESCRIPTION:🌟 Castello delle Sorprese 2025\nFavole\, incantesimi e giochi fantastici sulle rive del Lago Maggiore \n🗓️ Dettagli utili per partecipare\n📍 Luogo: Dimora storica di Oleggio Castello (a circa 35 minuti da Varese)📅 Date disponibili: 5-6 e 12-13 aprile + 21 aprile (apertura eccezionale a Pasquetta) 2025🕘 Orario di apertura: dalle 9:30 alle 17:30 – con intrattenimenti distribuiti per tutta la giornata♿ Accessibilità garantita: adatto a famiglie con bambini piccoli\, carrozzine\, persone con mobilità ridotta e amici a quattro zampe🎫 Biglietti flessibili: chi prenota in anticipo avrà diritto a un ingresso valido per 12 mesi in caso di impossibilità a partecipare🌐 Prenotazioni su: www.castellodellesorprese.it \n🐉 Creature immaginarie e incontri straordinari\nNel vasto parco del maniero potrete incontrare: \n\n🐱 Il gatto Teodoro\, simpatico poeta in versi\n🦄 Strane meraviglie come il pesce che bela o l’albero con zampe da papera\n🐲 Un enorme drago meccanico in movimento\, unico nel suo genere in Italia\n\n🎥 Inoltre\, sarà possibile registrare un video con il mantello dell’invisibilità e ricevere un ritratto personalizzato col Cappello Magico\, incluso per chi acquista online. \n👑 Favole reali per piccoli re e regine\nTutti i bambini potranno sentirsi protagonisti di una fiaba: \n\n💃 Una danza reale con una vera insegnante-principessa nella sala delle cerimonie\n✨ Incontri con i personaggi delle favole Disney in un raduno speciale\n📸 Una passerella fotografica sulla scalinata monumentale del castello\n🎨 Un laboratorio artistico per realizzare la propria corona decorata\n\n🎭 Spettacoli incantati e intrattenimenti magici\nLa giornata sarà animata da un programma ricco di attrazioni: \n\n🎼 Un concerto con brani tratti da celebri cartoni animati\n🎤 Un musical emozionante per tutta la famiglia\n🪄 Una vera scuola di magia\, con esperimenti\, duelli a colpi di bacchetta e pozioni fatate\n\n🏰 Un luogo incantato per vivere un’avventura unica\nNel cuore della natura e affacciato sul panorama mozzafiato del Lago Maggiore\, il castello ottocentesco diventa lo sfondo perfetto per una giornata tra realtà e immaginazione. Un parco da oltre 10.000 metri quadri\, popolato da personaggi fiabeschi e attrazioni sorprendenti\, accoglierà i visitatori in un universo di meraviglia. \n🎉 Preparati a entrare in un mondo dove tutto è possibile: tra sogni\, sorrisi e sorprese\, ogni famiglia vivrà una giornata da ricordare.Ti aspettiamo tra le mura del sogno! ✨🏰
URL:https://connectingkids.it/evento/grande-festa-del-castello-delle-sorprese/2025-04-12/
LOCATION:Castello delle sorprese\, Via dal Pozzo\, 24\, Oleggio Castello\, NO\, 28040
CATEGORIES:Arte e Creatività,Festa in costume,Festival di animazione,Gioco e Divertimento,Laboratori artistici,Musica e Spettacolo,Workshop manuali
ATTACH;FMTTYPE=image/webp:https://connectingkids.it/wp-content/uploads/2025/03/PERSONAGGICASTELLO2025-0085355d-640w.webp
END:VEVENT
BEGIN:VEVENT
DTSTART;TZID=Europe/Rome:20250413T093000
DTEND;TZID=Europe/Rome:20250413T173000
DTSTAMP:20260421T210154
CREATED:20250317T111302Z
LAST-MODIFIED:20250415T102036Z
UID:10001336-1744536600-1744565400@connectingkids.it
SUMMARY:Grande festa del Castello delle Sorprese!
DESCRIPTION:🌟 Castello delle Sorprese 2025\nFavole\, incantesimi e giochi fantastici sulle rive del Lago Maggiore \n🗓️ Dettagli utili per partecipare\n📍 Luogo: Dimora storica di Oleggio Castello (a circa 35 minuti da Varese)📅 Date disponibili: 5-6 e 12-13 aprile + 21 aprile (apertura eccezionale a Pasquetta) 2025🕘 Orario di apertura: dalle 9:30 alle 17:30 – con intrattenimenti distribuiti per tutta la giornata♿ Accessibilità garantita: adatto a famiglie con bambini piccoli\, carrozzine\, persone con mobilità ridotta e amici a quattro zampe🎫 Biglietti flessibili: chi prenota in anticipo avrà diritto a un ingresso valido per 12 mesi in caso di impossibilità a partecipare🌐 Prenotazioni su: www.castellodellesorprese.it \n🐉 Creature immaginarie e incontri straordinari\nNel vasto parco del maniero potrete incontrare: \n\n🐱 Il gatto Teodoro\, simpatico poeta in versi\n🦄 Strane meraviglie come il pesce che bela o l’albero con zampe da papera\n🐲 Un enorme drago meccanico in movimento\, unico nel suo genere in Italia\n\n🎥 Inoltre\, sarà possibile registrare un video con il mantello dell’invisibilità e ricevere un ritratto personalizzato col Cappello Magico\, incluso per chi acquista online. \n👑 Favole reali per piccoli re e regine\nTutti i bambini potranno sentirsi protagonisti di una fiaba: \n\n💃 Una danza reale con una vera insegnante-principessa nella sala delle cerimonie\n✨ Incontri con i personaggi delle favole Disney in un raduno speciale\n📸 Una passerella fotografica sulla scalinata monumentale del castello\n🎨 Un laboratorio artistico per realizzare la propria corona decorata\n\n🎭 Spettacoli incantati e intrattenimenti magici\nLa giornata sarà animata da un programma ricco di attrazioni: \n\n🎼 Un concerto con brani tratti da celebri cartoni animati\n🎤 Un musical emozionante per tutta la famiglia\n🪄 Una vera scuola di magia\, con esperimenti\, duelli a colpi di bacchetta e pozioni fatate\n\n🏰 Un luogo incantato per vivere un’avventura unica\nNel cuore della natura e affacciato sul panorama mozzafiato del Lago Maggiore\, il castello ottocentesco diventa lo sfondo perfetto per una giornata tra realtà e immaginazione. Un parco da oltre 10.000 metri quadri\, popolato da personaggi fiabeschi e attrazioni sorprendenti\, accoglierà i visitatori in un universo di meraviglia. \n🎉 Preparati a entrare in un mondo dove tutto è possibile: tra sogni\, sorrisi e sorprese\, ogni famiglia vivrà una giornata da ricordare.Ti aspettiamo tra le mura del sogno! ✨🏰
URL:https://connectingkids.it/evento/grande-festa-del-castello-delle-sorprese/2025-04-13/
LOCATION:Castello delle sorprese\, Via dal Pozzo\, 24\, Oleggio Castello\, NO\, 28040
CATEGORIES:Arte e Creatività,Festa in costume,Festival di animazione,Gioco e Divertimento,Laboratori artistici,Musica e Spettacolo,Workshop manuali
ATTACH;FMTTYPE=image/webp:https://connectingkids.it/wp-content/uploads/2025/03/PERSONAGGICASTELLO2025-0085355d-640w.webp
END:VEVENT
BEGIN:VEVENT
DTSTART;TZID=Europe/Rome:20250421T093000
DTEND;TZID=Europe/Rome:20250421T173000
DTSTAMP:20260421T210154
CREATED:20250317T111302Z
LAST-MODIFIED:20250415T102036Z
UID:10001420-1745227800-1745256600@connectingkids.it
SUMMARY:Grande festa del Castello delle Sorprese!
DESCRIPTION:🌟 Castello delle Sorprese 2025\nFavole\, incantesimi e giochi fantastici sulle rive del Lago Maggiore \n🗓️ Dettagli utili per partecipare\n📍 Luogo: Dimora storica di Oleggio Castello (a circa 35 minuti da Varese)📅 Date disponibili: 5-6 e 12-13 aprile + 21 aprile (apertura eccezionale a Pasquetta) 2025🕘 Orario di apertura: dalle 9:30 alle 17:30 – con intrattenimenti distribuiti per tutta la giornata♿ Accessibilità garantita: adatto a famiglie con bambini piccoli\, carrozzine\, persone con mobilità ridotta e amici a quattro zampe🎫 Biglietti flessibili: chi prenota in anticipo avrà diritto a un ingresso valido per 12 mesi in caso di impossibilità a partecipare🌐 Prenotazioni su: www.castellodellesorprese.it \n🐉 Creature immaginarie e incontri straordinari\nNel vasto parco del maniero potrete incontrare: \n\n🐱 Il gatto Teodoro\, simpatico poeta in versi\n🦄 Strane meraviglie come il pesce che bela o l’albero con zampe da papera\n🐲 Un enorme drago meccanico in movimento\, unico nel suo genere in Italia\n\n🎥 Inoltre\, sarà possibile registrare un video con il mantello dell’invisibilità e ricevere un ritratto personalizzato col Cappello Magico\, incluso per chi acquista online. \n👑 Favole reali per piccoli re e regine\nTutti i bambini potranno sentirsi protagonisti di una fiaba: \n\n💃 Una danza reale con una vera insegnante-principessa nella sala delle cerimonie\n✨ Incontri con i personaggi delle favole Disney in un raduno speciale\n📸 Una passerella fotografica sulla scalinata monumentale del castello\n🎨 Un laboratorio artistico per realizzare la propria corona decorata\n\n🎭 Spettacoli incantati e intrattenimenti magici\nLa giornata sarà animata da un programma ricco di attrazioni: \n\n🎼 Un concerto con brani tratti da celebri cartoni animati\n🎤 Un musical emozionante per tutta la famiglia\n🪄 Una vera scuola di magia\, con esperimenti\, duelli a colpi di bacchetta e pozioni fatate\n\n🏰 Un luogo incantato per vivere un’avventura unica\nNel cuore della natura e affacciato sul panorama mozzafiato del Lago Maggiore\, il castello ottocentesco diventa lo sfondo perfetto per una giornata tra realtà e immaginazione. Un parco da oltre 10.000 metri quadri\, popolato da personaggi fiabeschi e attrazioni sorprendenti\, accoglierà i visitatori in un universo di meraviglia. \n🎉 Preparati a entrare in un mondo dove tutto è possibile: tra sogni\, sorrisi e sorprese\, ogni famiglia vivrà una giornata da ricordare.Ti aspettiamo tra le mura del sogno! ✨🏰
URL:https://connectingkids.it/evento/grande-festa-del-castello-delle-sorprese/2025-04-21/
LOCATION:Castello delle sorprese\, Via dal Pozzo\, 24\, Oleggio Castello\, NO\, 28040
CATEGORIES:Arte e Creatività,Festa in costume,Festival di animazione,Gioco e Divertimento,Laboratori artistici,Musica e Spettacolo,Workshop manuali
ATTACH;FMTTYPE=image/webp:https://connectingkids.it/wp-content/uploads/2025/03/PERSONAGGICASTELLO2025-0085355d-640w.webp
END:VEVENT
END:VCALENDAR