BEGIN:VCALENDAR
VERSION:2.0
PRODID:-//Connecting Kids - ECPv6.15.20//NONSGML v1.0//EN
CALSCALE:GREGORIAN
METHOD:PUBLISH
X-ORIGINAL-URL:https://connectingkids.it
X-WR-CALDESC:Eventi per Connecting Kids
REFRESH-INTERVAL;VALUE=DURATION:PT1H
X-Robots-Tag:noindex
X-PUBLISHED-TTL:PT1H
BEGIN:VTIMEZONE
TZID:Europe/Rome
BEGIN:DAYLIGHT
TZOFFSETFROM:+0100
TZOFFSETTO:+0200
TZNAME:CEST
DTSTART:20240331T010000
END:DAYLIGHT
BEGIN:STANDARD
TZOFFSETFROM:+0200
TZOFFSETTO:+0100
TZNAME:CET
DTSTART:20241027T010000
END:STANDARD
BEGIN:DAYLIGHT
TZOFFSETFROM:+0100
TZOFFSETTO:+0200
TZNAME:CEST
DTSTART:20250330T010000
END:DAYLIGHT
BEGIN:STANDARD
TZOFFSETFROM:+0200
TZOFFSETTO:+0100
TZNAME:CET
DTSTART:20251026T010000
END:STANDARD
BEGIN:DAYLIGHT
TZOFFSETFROM:+0100
TZOFFSETTO:+0200
TZNAME:CEST
DTSTART:20260329T010000
END:DAYLIGHT
BEGIN:STANDARD
TZOFFSETFROM:+0200
TZOFFSETTO:+0100
TZNAME:CET
DTSTART:20261025T010000
END:STANDARD
END:VTIMEZONE
BEGIN:VEVENT
DTSTART;TZID=Europe/Rome:20250202T153000
DTEND;TZID=Europe/Rome:20250202T170000
DTSTAMP:20260421T063446
CREATED:20250114T214516Z
LAST-MODIFIED:20250127T192026Z
UID:10001112-1738510200-1738515600@connectingkids.it
SUMMARY:Costruisci il tuo Goku! - Gunpla Lab
DESCRIPTION:Costruisci il tuo Goku! – Gunpla Lab\nCostruisci il tuo Goku! Laboratorio di modellismo per giovani fan di Dragon Ball – Evento Gratuito\nDomenica 2 febbraio alle ore 15:30\, vieni da Crazy Comics & Games a Varese per un’esperienza unica dedicata ai ragazzi dagli 8 ai 12 anni! \n  \nCostruisci il tuo primo Model Kit e crea il tuo eroe!\nInsieme impareremo passo dopo passo a costruire il modello di Goku\, scoprendo tutti i segreti del modellismo. \nAlla fine del laboratorio\, il modello sarà tuo da portare a casa! \n  \nCosa ti aspetta?\n* Un esperto che ti guiderà nella costruzione Goku\n* Divertimento garantito in un ambiente creativo\n* Il kit di Goku in regalo per ogni partecipante \nDove: Crazy Comics & Games\, Varese\nPosti limitatissimi! Prenotazione obbligatoria tramite form nell’evento. \n 
URL:https://connectingkids.it/evento/costruisci-il-tuo-goku-gunpla-lab/
LOCATION:Crazy Comics And Games\, Via delle medaglie d'oro 8\, Varese\, Varese\, 21100\, Italy
CATEGORIES:Arte e Creatività,Modellismo
ATTACH;FMTTYPE=image/jpeg:https://connectingkids.it/wp-content/uploads/2025/01/GunplaLab.jpg
ORGANIZER;CN="Crazy Comics And Games":MAILTO:clienti@crazycomicsandgames.it
END:VEVENT
END:VCALENDAR