BEGIN:VCALENDAR
VERSION:2.0
PRODID:-//Connecting Kids - ECPv6.15.20//NONSGML v1.0//EN
CALSCALE:GREGORIAN
METHOD:PUBLISH
X-ORIGINAL-URL:https://connectingkids.it
X-WR-CALDESC:Eventi per Connecting Kids
REFRESH-INTERVAL;VALUE=DURATION:PT1H
X-Robots-Tag:noindex
X-PUBLISHED-TTL:PT1H
BEGIN:VTIMEZONE
TZID:Europe/Rome
BEGIN:DAYLIGHT
TZOFFSETFROM:+0100
TZOFFSETTO:+0200
TZNAME:CEST
DTSTART:20240331T010000
END:DAYLIGHT
BEGIN:STANDARD
TZOFFSETFROM:+0200
TZOFFSETTO:+0100
TZNAME:CET
DTSTART:20241027T010000
END:STANDARD
BEGIN:DAYLIGHT
TZOFFSETFROM:+0100
TZOFFSETTO:+0200
TZNAME:CEST
DTSTART:20250330T010000
END:DAYLIGHT
BEGIN:STANDARD
TZOFFSETFROM:+0200
TZOFFSETTO:+0100
TZNAME:CET
DTSTART:20251026T010000
END:STANDARD
BEGIN:DAYLIGHT
TZOFFSETFROM:+0100
TZOFFSETTO:+0200
TZNAME:CEST
DTSTART:20260329T010000
END:DAYLIGHT
BEGIN:STANDARD
TZOFFSETFROM:+0200
TZOFFSETTO:+0100
TZNAME:CET
DTSTART:20261025T010000
END:STANDARD
END:VTIMEZONE
BEGIN:VEVENT
DTSTART;TZID=Europe/Rome:20250510T170000
DTEND;TZID=Europe/Rome:20250510T183000
DTSTAMP:20260424T132129
CREATED:20250428T133345Z
LAST-MODIFIED:20250428T133346Z
UID:10001447-1746896400-1746901800@connectingkids.it
SUMMARY:AAA Detective cercasi – Thinker Lab\, Varese
DESCRIPTION:Diventa un detective per un giorno! 🕵️‍♂️\nUpdate importante: il primo turno delle 15:00 è andato subito esaurito! Per permettere a più giovani investigatori di partecipare\, è stato aperto un secondo turno alle 17:00. Non perdere l’occasione\, i posti sono limitati! \nSabato 10 maggio\, il Thinker Lab di Varese apre le porte a tutti i piccoli aspiranti detective dai 7 ai 12 anni!Un misterioso delitto attende di essere risolto\, e servirà tutto il tuo ingegno per scoprire chi è il colpevole. \nGuidati dagli esperti di Morfologia Umana dell’Università dell’Insubria di Varese\, i partecipanti potranno: \n\nAnalizzare la scena del crimine\nEsaminare impronte digitali\nStudiare il DNA dei sospettati\nRicostruire gli indizi e smascherare l’assassino!\n\nUn’attività gratuita\, educativa e incredibilmente divertente che trasforma la scienza in un’avventura emozionante. \n📍 Dove: Thinker Lab\, Via Cairoli 5\, Varese(Parcheggio consigliato: Lidl di Via Carcano – gratuiti i primi 120 minuti)📅 Quando: Sabato 10 maggio🕒 Orari disponibili: \n\nPrimo turno: 15:00 – 16:30 (completo)\nSecondo turno: 17:00 – 18:30 (aperto)\n\n🎟 Costo: gratuito – prenotazione obbligatoria tramite il sito www.thethinkerlab.it \nPerché partecipare?Tutti i laboratori sono condotti da professionisti qualificati che sapranno rendere ogni attività scientifica coinvolgente e accessibile ai bambini. Grazie a un approccio pratico e interattivo\, ogni giovane detective vivrà un pomeriggio all’insegna del divertimento\, dell’apprendimento e della scoperta! \n⚡ Affrettati a prenotare: i posti disponibili per il secondo turno si stanno esaurendo!
URL:https://connectingkids.it/evento/aaa-detective-cercasi-thinker-lab-varese/2025-05-10/2/
LOCATION:The Thinker Lab\, via Cairoli 5\, Varese\, Italy
CATEGORIES:Gratis,Laboratori scientifici,STEAM
ATTACH;FMTTYPE=image/jpeg:https://connectingkids.it/wp-content/uploads/2025/04/NordIngiallo17.jpg
END:VEVENT
END:VCALENDAR