BEGIN:VCALENDAR
VERSION:2.0
PRODID:-//Connecting Kids - ECPv6.15.20//NONSGML v1.0//EN
CALSCALE:GREGORIAN
METHOD:PUBLISH
X-ORIGINAL-URL:https://connectingkids.it
X-WR-CALDESC:Eventi per Connecting Kids
REFRESH-INTERVAL;VALUE=DURATION:PT1H
X-Robots-Tag:noindex
X-PUBLISHED-TTL:PT1H
BEGIN:VTIMEZONE
TZID:Europe/Rome
BEGIN:DAYLIGHT
TZOFFSETFROM:+0100
TZOFFSETTO:+0200
TZNAME:CEST
DTSTART:20240331T010000
END:DAYLIGHT
BEGIN:STANDARD
TZOFFSETFROM:+0200
TZOFFSETTO:+0100
TZNAME:CET
DTSTART:20241027T010000
END:STANDARD
BEGIN:DAYLIGHT
TZOFFSETFROM:+0100
TZOFFSETTO:+0200
TZNAME:CEST
DTSTART:20250330T010000
END:DAYLIGHT
BEGIN:STANDARD
TZOFFSETFROM:+0200
TZOFFSETTO:+0100
TZNAME:CET
DTSTART:20251026T010000
END:STANDARD
BEGIN:DAYLIGHT
TZOFFSETFROM:+0100
TZOFFSETTO:+0200
TZNAME:CEST
DTSTART:20260329T010000
END:DAYLIGHT
BEGIN:STANDARD
TZOFFSETFROM:+0200
TZOFFSETTO:+0100
TZNAME:CET
DTSTART:20261025T010000
END:STANDARD
END:VTIMEZONE
BEGIN:VEVENT
DTSTART;TZID=Europe/Rome:20250315T150000
DTEND;TZID=Europe/Rome:20250315T170000
DTSTAMP:20260419T222827
CREATED:20250307T173330Z
LAST-MODIFIED:20250308T100355Z
UID:10001303-1742050800-1742058000@connectingkids.it
SUMMARY:Introduzione al Coding: Programmare con Scratch!
DESCRIPTION:Introduzione al Coding: Programmare con Scratch!\n🚀 Scopri il potere del coding e libera la tua creatività! \nIn questo corso interattivo\, i ragazzi esploreranno il mondo della programmazione sviluppando competenze chiave per il futuro. Grazie a Scratch\, una piattaforma di coding visuale intuitiva e accessibile\, impareranno a creare giochi\, animazioni e storie interattive utilizzando un sistema di blocchi colorati in drag & drop. \n👩‍💻 Impara a programmare in modo facile e divertente🎮 Dai vita alle tue idee con giochi e animazioni🧠 Sviluppa logica\, creatività e problem-solving \nUn’opportunità per avvicinarsi alla tecnologia in modo pratico e stimolante\, ponendo le basi per future esperienze nel mondo digitale! \nEVENTO GRATUITO – PRENOTAZIONE OBBLIGATORIA DIRETTAMENTE DALL’EVENTO DI THE THINKER LAB \nPRENOTA QUI\nETA’: dai 10 anni \nORARIO: dalle 15.00 alle 17.00 \nLUOGO: Via Cairoli 5\, Varese – c/o Crazy Bricks And Games
URL:https://connectingkids.it/evento/introduzione-coding-scratch/
LOCATION:Crazy Bricks and Games\, via cairoli 5\, Varese\, Varese\, 21100\, Italy
CATEGORIES:Laboratori scientifici,Robotica e coding,STEAM
ATTACH;FMTTYPE=image/jpeg:https://connectingkids.it/wp-content/uploads/2025/03/Scratch_base.jpg
END:VEVENT
END:VCALENDAR