BEGIN:VCALENDAR
VERSION:2.0
PRODID:-//Connecting Kids - ECPv6.15.20//NONSGML v1.0//EN
CALSCALE:GREGORIAN
METHOD:PUBLISH
X-WR-CALNAME:Connecting Kids
X-ORIGINAL-URL:https://connectingkids.it
X-WR-CALDESC:Eventi per Connecting Kids
REFRESH-INTERVAL;VALUE=DURATION:PT1H
X-Robots-Tag:noindex
X-PUBLISHED-TTL:PT1H
BEGIN:VTIMEZONE
TZID:Europe/Rome
BEGIN:DAYLIGHT
TZOFFSETFROM:+0100
TZOFFSETTO:+0200
TZNAME:CEST
DTSTART:20240331T010000
END:DAYLIGHT
BEGIN:STANDARD
TZOFFSETFROM:+0200
TZOFFSETTO:+0100
TZNAME:CET
DTSTART:20241027T010000
END:STANDARD
BEGIN:DAYLIGHT
TZOFFSETFROM:+0100
TZOFFSETTO:+0200
TZNAME:CEST
DTSTART:20250330T010000
END:DAYLIGHT
BEGIN:STANDARD
TZOFFSETFROM:+0200
TZOFFSETTO:+0100
TZNAME:CET
DTSTART:20251026T010000
END:STANDARD
BEGIN:DAYLIGHT
TZOFFSETFROM:+0100
TZOFFSETTO:+0200
TZNAME:CEST
DTSTART:20260329T010000
END:DAYLIGHT
BEGIN:STANDARD
TZOFFSETFROM:+0200
TZOFFSETTO:+0100
TZNAME:CET
DTSTART:20261025T010000
END:STANDARD
END:VTIMEZONE
BEGIN:VEVENT
DTSTART;TZID=Europe/Rome:20251004T150000
DTEND;TZID=Europe/Rome:20251004T163000
DTSTAMP:20260421T004353
CREATED:20250929T130706Z
LAST-MODIFIED:20250929T153818Z
UID:10001539-1759590000-1759595400@connectingkids.it
SUMMARY:I misteri delle cellule || The Thinker Lab\, Varese
DESCRIPTION:I Misteri delle Cellule – Viaggio dentro la vita\nSabato 4 ottobre 2025\, il Thinker Lab di Varese invita bambini e ragazzi a un pomeriggio da veri scienziati: “I Misteri delle Cellule”\, un laboratorio interattivo che svela il mondo microscopico nascosto dentro di noi. \n \n🧬 Cosa succede durante il laboratorio\n\nEsplorazione guidata: scopriremo come è fatta una cellula e quali sono le sue parti principali.\nAttività pratiche: ogni partecipante costruirà un modellino della cellula da portare a casa come ricordo.\nDivertimento scientifico: giochi ed esperimenti per capire come funziona la vita a livello microscopico.\n\nL’esperta Rachele Miotto accompagnerà i giovani scienziati in un’avventura fatta di curiosità\, creatività e scoperte sorprendenti. \n📅 Quando: Sabato 4 ottobre 2025🕒 Orario: 15:00 – 16:30📍 Dove: Thinker Lab\, Via Cairoli 5 – Varese(parcheggio gratuito Lidl di via Carcano\, primi 120 minuti)👧 Età: 7 – 11 anni💰 Costo: 15 € (sconto 15% per fratelli/sorelle) \n⚠️ Posti limitati: prenotazione obbligatoria tramite il form dedicato. \nGrazie all’approccio pratico e al supporto di professionisti\, il Thinker Lab trasforma la scienza in un’esperienza giocosa e indimenticabile.
URL:https://connectingkids.it/evento/i-misteri-delle-cellule-the-thinker-lab-varese/
LOCATION:The Thinker Lab\, via Cairoli 5\, Varese\, Italy
CATEGORIES:Laboratori scientifici,Scienza e tecnologia,STEAM
ATTACH;FMTTYPE=image/jpeg:https://connectingkids.it/wp-content/uploads/2025/09/1-2.jpg
END:VEVENT
END:VCALENDAR