BEGIN:VCALENDAR
VERSION:2.0
PRODID:-//Connecting Kids - ECPv6.15.20//NONSGML v1.0//EN
CALSCALE:GREGORIAN
METHOD:PUBLISH
X-ORIGINAL-URL:https://connectingkids.it
X-WR-CALDESC:Eventi per Connecting Kids
REFRESH-INTERVAL;VALUE=DURATION:PT1H
X-Robots-Tag:noindex
X-PUBLISHED-TTL:PT1H
BEGIN:VTIMEZONE
TZID:Europe/Rome
BEGIN:DAYLIGHT
TZOFFSETFROM:+0100
TZOFFSETTO:+0200
TZNAME:CEST
DTSTART:20240331T010000
END:DAYLIGHT
BEGIN:STANDARD
TZOFFSETFROM:+0200
TZOFFSETTO:+0100
TZNAME:CET
DTSTART:20241027T010000
END:STANDARD
BEGIN:DAYLIGHT
TZOFFSETFROM:+0100
TZOFFSETTO:+0200
TZNAME:CEST
DTSTART:20250330T010000
END:DAYLIGHT
BEGIN:STANDARD
TZOFFSETFROM:+0200
TZOFFSETTO:+0100
TZNAME:CET
DTSTART:20251026T010000
END:STANDARD
BEGIN:DAYLIGHT
TZOFFSETFROM:+0100
TZOFFSETTO:+0200
TZNAME:CEST
DTSTART:20260329T010000
END:DAYLIGHT
BEGIN:STANDARD
TZOFFSETFROM:+0200
TZOFFSETTO:+0100
TZNAME:CET
DTSTART:20261025T010000
END:STANDARD
END:VTIMEZONE
BEGIN:VEVENT
DTSTART;TZID=Europe/Rome:20250309T100000
DTEND;TZID=Europe/Rome:20250309T190000
DTSTAMP:20260419T182023
CREATED:20250303T220640Z
LAST-MODIFIED:20250303T221440Z
UID:10001241-1741514400-1741546800@connectingkids.it
SUMMARY:Bimbilandia - Bimbi al Museo
DESCRIPTION:Bimbilandia – Bimbi al Museo\n🎭 Un Carnevale di magia e divertimento per tutta la famiglia! 🎈 \n📅 8 e 9 marzo 2025📍 Museo del Tessile – Busto Arsizio🕙 Dalle 10:00 alle 19:00 \nPreparati a vivere due giornate straordinarie in un mondo incantato\, pensato per il divertimento di grandi e piccoli! Con oltre 1.800 mq di spazi coperti e 700 mq all’aperto\, il Museo del Tessile si trasformerà in un vero paradiso di giochi\, spettacoli e attività tutte a tema Carnevale! \n🎠 Cosa troverai?✨ Gonfiabili e giochi interattivi🎭 Spettacoli e laboratori creativi🎨 Truccabimbi e attività didattiche🎉 Animazioni\, corsi e tante sorprese! \n🎟 Biglietti e info👦 Bambini (1-14 anni): €10\,00 (inclusi 2 accompagnatori adulti)🧑 Accompagnatori aggiuntivi (14+ anni): €5\,00 \n🎁 Ingresso gratuito per:👶 Bambini fino a 1 anno♿ Persone con disabilità \nNon perdere l’evento più colorato e divertente dell’anno! Ti aspettiamo per un weekend di festa e magia! 🎭✨ \nPER PRENOTAZIONI VAI AL SITO DELL’EVENTO
URL:https://connectingkids.it/evento/bimbilandia-bimbi-al-museo/2025-03-09/
LOCATION:Museo Del Tessile\, Via Galvani\, Busto Arsizio\, Italy
CATEGORIES:Carnevale,Cultura e Tradizioni,Festa Carnevale,Feste e sagre
ATTACH;FMTTYPE=image/jpeg:https://connectingkids.it/wp-content/uploads/2025/03/DIY-Bimbialmusero-busto-biglietti.jpg
END:VEVENT
BEGIN:VEVENT
DTSTART;TZID=Europe/Rome:20250302T093000
DTEND;TZID=Europe/Rome:20250302T190000
DTSTAMP:20260419T182023
CREATED:20250218T231152Z
LAST-MODIFIED:20250218T231152Z
UID:10001223-1740907800-1740942000@connectingkids.it
SUMMARY:Truccabimbi da Party Boom
DESCRIPTION:Truccabimbi da Party Boom\nCarnevale è alle porte e da Party Boom Varese sono pronti a rendere il tuo costume ancora più magico! 🎉 \nDomenica 2 marzo\, passa in negozio e lasciati trasformare con un fantastico truccabimbi! 🦸‍♂️🧚‍♀️🐯 Che tu voglia diventare una principessa\, un supereroe\, un animale selvaggio o un personaggio da favola\, la loro artista del trucco sarà a disposizione per realizzare il make-up perfetto per il tuo Carnevale! \n🎨 Quando? Domenica 2 marzo📍 Dove? Party Boom\, Varese⏰ Orario: durante tutta la giornata – PRENOTAZIONE OBBLIGATORIA \nCosto: 5€\, che verrà convertito in buono acquisto da utilizzare in negozio. \nLINK PRENOTAZIONE\nUn’occasione imperdibile per completare il tuo travestimento e festeggiare il Carnevale con stile! 🎊
URL:https://connectingkids.it/evento/truccabimbi-da-party-boom/
LOCATION:Party Boom\, via cairoli 5\, varese\, Varese\, 21100\, Italy
CATEGORIES:Celebrazioni tradizionali,Cultura e Tradizioni,Musica e Spettacolo,Truccabimbi e Make-Up
ATTACH;FMTTYPE=image/jpeg:https://connectingkids.it/wp-content/uploads/2025/02/truccabimbi_partyboom.jpg
END:VEVENT
END:VCALENDAR