BEGIN:VCALENDAR
VERSION:2.0
PRODID:-//Connecting Kids - ECPv6.15.20//NONSGML v1.0//EN
CALSCALE:GREGORIAN
METHOD:PUBLISH
X-ORIGINAL-URL:https://connectingkids.it
X-WR-CALDESC:Eventi per Connecting Kids
REFRESH-INTERVAL;VALUE=DURATION:PT1H
X-Robots-Tag:noindex
X-PUBLISHED-TTL:PT1H
BEGIN:VTIMEZONE
TZID:Europe/Rome
BEGIN:DAYLIGHT
TZOFFSETFROM:+0100
TZOFFSETTO:+0200
TZNAME:CEST
DTSTART:20240331T010000
END:DAYLIGHT
BEGIN:STANDARD
TZOFFSETFROM:+0200
TZOFFSETTO:+0100
TZNAME:CET
DTSTART:20241027T010000
END:STANDARD
BEGIN:DAYLIGHT
TZOFFSETFROM:+0100
TZOFFSETTO:+0200
TZNAME:CEST
DTSTART:20250330T010000
END:DAYLIGHT
BEGIN:STANDARD
TZOFFSETFROM:+0200
TZOFFSETTO:+0100
TZNAME:CET
DTSTART:20251026T010000
END:STANDARD
BEGIN:DAYLIGHT
TZOFFSETFROM:+0100
TZOFFSETTO:+0200
TZNAME:CEST
DTSTART:20260329T010000
END:DAYLIGHT
BEGIN:STANDARD
TZOFFSETFROM:+0200
TZOFFSETTO:+0100
TZNAME:CET
DTSTART:20261025T010000
END:STANDARD
END:VTIMEZONE
BEGIN:VEVENT
DTSTART;TZID=Europe/Rome:20250705T103000
DTEND;TZID=Europe/Rome:20250705T113000
DTSTAMP:20260420T075526
CREATED:20250623T093825Z
LAST-MODIFIED:20250623T093922Z
UID:10001489-1751711400-1751715000@connectingkids.it
SUMMARY:Opera Kids || Teatro Sociale Como
DESCRIPTION:Opera Kids – Falstaff\, burattini e burle\nUno spettacolo all’aperto per bambini dai 3 ai 7 anni \nNell’ambito della rassegna Intorno al Festival del Festival Como Città della Musica\, torna anche quest’anno Opera Kids\, lo spettacolo musicale pensato per i più piccoli\, dai 3 ai 7 anni\, per avvicinarli al mondo dell’opera con un linguaggio semplice\, divertente e su misura. \nUna storia di pupazzi\, musica e risatePer la sua sedicesima edizione\, lo spettacolo trae ispirazione dalla celebre opera Falstaff di Giuseppe Verdi\, trasformandola in un racconto vivace e teatrale con un’attrice\, un cantante e una pianista dal vivo. \nIl protagonista è un burattinaio scaltro e combinaguai che cerca di arricchirsi fingendosi innamorato di due pupazze ricche. Ma le due non ci cascano: capiscono subito il piano e decidono di vendicarsi con una serie di burle e beffe… perché con i sentimenti non si gioca! \nPortate una coperta!Lo spettacolo si svolge all’aperto\, ai Giardini di via Anzani a Como\, in un’atmosfera accogliente e informale. Bambini e genitori potranno accomodarsi sull’erba\, rilassarsi su una coperta e vivere la magia del teatro sotto il cielo estivo. \n☔ In caso di maltempo\, l’evento si terrà presso il Teatro Sociale di Como. \n📍 Dove: Giardini di via Anzani\, Como👶 Età consigliata: 3 – 7 anni🕓 Quando: data e orario da confermare tramite il sito ufficiale🎟 Ingresso gratuito\, fino a esaurimento posti📌 Prenotazione consigliata👉 Info su: www.teatrosocialecomo.it \n🌟 Musica e immaginazione a cielo aperto“Falstaff\, burattini e burle” è l’occasione perfetta per vivere il teatro e la musica in famiglia\, con uno spettacolo pensato per stimolare la fantasia e la curiosità dei più piccoli\, in uno scenario verde e accogliente nel cuore di Como.
URL:https://connectingkids.it/evento/opera-kids-teatro-sociale-como/2025-07-05/1/
LOCATION:Giardini di via Anzani\, Via Anzani\, Como\, CO\, 22100\, Italy
CATEGORIES:Concerti per bambini,Gratis,Musica e Spettacolo,Teatro e musical
ATTACH;FMTTYPE=image/png:https://connectingkids.it/wp-content/uploads/2025/06/foto-header-1.png
END:VEVENT
BEGIN:VEVENT
DTSTART;TZID=Europe/Rome:20250705T180000
DTEND;TZID=Europe/Rome:20250705T190000
DTSTAMP:20260420T075526
CREATED:20250623T093825Z
LAST-MODIFIED:20250623T093922Z
UID:10001490-1751738400-1751742000@connectingkids.it
SUMMARY:Opera Kids || Teatro Sociale Como
DESCRIPTION:Opera Kids – Falstaff\, burattini e burle\nUno spettacolo all’aperto per bambini dai 3 ai 7 anni \nNell’ambito della rassegna Intorno al Festival del Festival Como Città della Musica\, torna anche quest’anno Opera Kids\, lo spettacolo musicale pensato per i più piccoli\, dai 3 ai 7 anni\, per avvicinarli al mondo dell’opera con un linguaggio semplice\, divertente e su misura. \nUna storia di pupazzi\, musica e risatePer la sua sedicesima edizione\, lo spettacolo trae ispirazione dalla celebre opera Falstaff di Giuseppe Verdi\, trasformandola in un racconto vivace e teatrale con un’attrice\, un cantante e una pianista dal vivo. \nIl protagonista è un burattinaio scaltro e combinaguai che cerca di arricchirsi fingendosi innamorato di due pupazze ricche. Ma le due non ci cascano: capiscono subito il piano e decidono di vendicarsi con una serie di burle e beffe… perché con i sentimenti non si gioca! \nPortate una coperta!Lo spettacolo si svolge all’aperto\, ai Giardini di via Anzani a Como\, in un’atmosfera accogliente e informale. Bambini e genitori potranno accomodarsi sull’erba\, rilassarsi su una coperta e vivere la magia del teatro sotto il cielo estivo. \n☔ In caso di maltempo\, l’evento si terrà presso il Teatro Sociale di Como. \n📍 Dove: Giardini di via Anzani\, Como👶 Età consigliata: 3 – 7 anni🕓 Quando: data e orario da confermare tramite il sito ufficiale🎟 Ingresso gratuito\, fino a esaurimento posti📌 Prenotazione consigliata👉 Info su: www.teatrosocialecomo.it \n🌟 Musica e immaginazione a cielo aperto“Falstaff\, burattini e burle” è l’occasione perfetta per vivere il teatro e la musica in famiglia\, con uno spettacolo pensato per stimolare la fantasia e la curiosità dei più piccoli\, in uno scenario verde e accogliente nel cuore di Como.
URL:https://connectingkids.it/evento/opera-kids-teatro-sociale-como/2025-07-05/2/
LOCATION:Giardini di via Anzani\, Via Anzani\, Como\, CO\, 22100\, Italy
CATEGORIES:Concerti per bambini,Gratis,Musica e Spettacolo,Teatro e musical
ATTACH;FMTTYPE=image/png:https://connectingkids.it/wp-content/uploads/2025/06/foto-header-1.png
END:VEVENT
END:VCALENDAR