BEGIN:VCALENDAR
VERSION:2.0
PRODID:-//Connecting Kids - ECPv6.15.20//NONSGML v1.0//EN
CALSCALE:GREGORIAN
METHOD:PUBLISH
X-WR-CALNAME:Connecting Kids
X-ORIGINAL-URL:https://connectingkids.it
X-WR-CALDESC:Eventi per Connecting Kids
REFRESH-INTERVAL;VALUE=DURATION:PT1H
X-Robots-Tag:noindex
X-PUBLISHED-TTL:PT1H
BEGIN:VTIMEZONE
TZID:Europe/Rome
BEGIN:DAYLIGHT
TZOFFSETFROM:+0100
TZOFFSETTO:+0200
TZNAME:CEST
DTSTART:20230326T010000
END:DAYLIGHT
BEGIN:STANDARD
TZOFFSETFROM:+0200
TZOFFSETTO:+0100
TZNAME:CET
DTSTART:20231029T010000
END:STANDARD
BEGIN:DAYLIGHT
TZOFFSETFROM:+0100
TZOFFSETTO:+0200
TZNAME:CEST
DTSTART:20240331T010000
END:DAYLIGHT
BEGIN:STANDARD
TZOFFSETFROM:+0200
TZOFFSETTO:+0100
TZNAME:CET
DTSTART:20241027T010000
END:STANDARD
BEGIN:DAYLIGHT
TZOFFSETFROM:+0100
TZOFFSETTO:+0200
TZNAME:CEST
DTSTART:20250330T010000
END:DAYLIGHT
BEGIN:STANDARD
TZOFFSETFROM:+0200
TZOFFSETTO:+0100
TZNAME:CET
DTSTART:20251026T010000
END:STANDARD
END:VTIMEZONE
BEGIN:VEVENT
DTSTART;TZID=Europe/Rome:20241101T163000
DTEND;TZID=Europe/Rome:20241101T193000
DTSTAMP:20260420T115000
CREATED:20241010T214705Z
LAST-MODIFIED:20241010T215110Z
UID:10000283-1730478600-1730489400@connectingkids.it
SUMMARY:GHOSTBUSTERS... NELLA FABBRICA INFESTATA!
DESCRIPTION:“GHOSTBUSTERS NELLA FABBRICA INFESTATA” \nIn collaborazione con Associazione Invenire\, Party Boom\, Crazy Bricks and Games  e Progetto Zattera \nFesteggia Halloween con Archeokidz vi aspettiamo nella fabbrica infestata tra personaggi strani oggetti magici e antichi rituali Babilonesi! \nI fantasmi sono da sempre presenti nelle storie dell’uomo. Li conoscevano già gli antichi Egizi\, Greci e Romani\, apparivano nel Medioevo e nell’Ottocento erano di gran moda. Fanno di tutto perché le persone si accorgano di loro. Sono sempre inquieti e hanno bisogno di raccontare la loro storia….. \nLi definiscono paurosi\, ma in verità fanno ridere e di sicuro sono molto misteriosi. \nProviamo a scoprire qualcosa di più sulla loro esistenza nel periodo più magico dell’anno. \nUn fantasmagorico evento\, vivi un ‘esperienza ricca di colpi di scena\, prove divertenti e di coraggio\, sorprese ed attività inaspettate. \nBambini riuscirete ad acchiappare tutti fantasmi e a conseguire il vostri patentino di ghostbusters? \n  \nOrari Venerdi 1 novembre \nOre 14.30 -15.30 fascia 3/5 anni  lab + merenda \nOre 16.00 – 17.30 fascia 6/12 anni  lab + merenda \nOre 18.00-19.30 6/12 anni LAB + APERITIVO  / Aperitivo adulti Costo: 15 Euro \n  \nDress Code: Mascherati con una torcia (si consiglia un abbigliamento caldo). \nDOVE: ”Opera Hub”  Via G. Borghi 27\, Comerio (Varese). Parcheggio privato presso la location. \n  \nPRENOTAZIONE  e PREVENDITA OBBLIGATORIA CON PAGAMENTO ALL’ISCRIZIONE (POSTI LIMITATATI)  \n  \n1/11 Prenotazione Ore 14.30 -15.30 fascia 3/5 anni  lab + merenda (23€/bambino) \n1/11 Prenotazione Ore 16.00 – 17.30 fascia 6/12 anni  lab + merenda (23€/bambino) \n1/11 Prenotazione Ore 18.00-19.30 6/12 anni LAB + APERITIVO (25€/bambino) \n  \nPer informazioni: archeokidz@gmail.com \n  \nPossibilità noleggio costumi – Per info Party Boom 3515301604 \n 
URL:https://connectingkids.it/evento/ghostbusters-nella-fabbrica-infestata-2/
LOCATION:Opera Hub\, Via G. Borghi\, 27\, Comerio\, Varese\, 21025\, Italy
CATEGORIES:Celebrazioni tradizionali,Edutainment,Festa Halloween
ATTACH;FMTTYPE=image/jpeg:https://connectingkids.it/wp-content/uploads/2024/09/Banner-LAB_Ghostbusters_nella-fabbrica-infestata_HALLOWEEN_20241_ZAIRA.jpg
ORGANIZER;CN="Archeo Kidz":MAILTO:archeokidz@gmail.com
END:VEVENT
END:VCALENDAR