BEGIN:VCALENDAR
VERSION:2.0
PRODID:-//Connecting Kids - ECPv6.15.20//NONSGML v1.0//EN
CALSCALE:GREGORIAN
METHOD:PUBLISH
X-ORIGINAL-URL:https://connectingkids.it
X-WR-CALDESC:Eventi per Connecting Kids
REFRESH-INTERVAL;VALUE=DURATION:PT1H
X-Robots-Tag:noindex
X-PUBLISHED-TTL:PT1H
BEGIN:VTIMEZONE
TZID:Europe/Rome
BEGIN:DAYLIGHT
TZOFFSETFROM:+0100
TZOFFSETTO:+0200
TZNAME:CEST
DTSTART:20230326T010000
END:DAYLIGHT
BEGIN:STANDARD
TZOFFSETFROM:+0200
TZOFFSETTO:+0100
TZNAME:CET
DTSTART:20231029T010000
END:STANDARD
BEGIN:DAYLIGHT
TZOFFSETFROM:+0100
TZOFFSETTO:+0200
TZNAME:CEST
DTSTART:20240331T010000
END:DAYLIGHT
BEGIN:STANDARD
TZOFFSETFROM:+0200
TZOFFSETTO:+0100
TZNAME:CET
DTSTART:20241027T010000
END:STANDARD
BEGIN:DAYLIGHT
TZOFFSETFROM:+0100
TZOFFSETTO:+0200
TZNAME:CEST
DTSTART:20250330T010000
END:DAYLIGHT
BEGIN:STANDARD
TZOFFSETFROM:+0200
TZOFFSETTO:+0100
TZNAME:CET
DTSTART:20251026T010000
END:STANDARD
END:VTIMEZONE
BEGIN:VEVENT
DTSTART;TZID=Europe/Rome:20241207T160000
DTEND;TZID=Europe/Rome:20241207T180000
DTSTAMP:20260421T130446
CREATED:20241111T185246Z
LAST-MODIFIED:20241111T185357Z
UID:10000324-1733587200-1733594400@connectingkids.it
SUMMARY:X-MAS MAGIC SHOW spettacolo al Villaggio di Natale
DESCRIPTION:X-MAS MAGIC SHOW spettacolo al Villaggio di Natale\nNB: per partecipare allo spettacolo al Villaggio di Natale è necessario prenotare il pranzo\, la merenda\, oppure la cena di sabato 7 dicembre. \nFantasianimazione azienda leader di animazione e intrattenimento per bambini è lieta di presentarvi un magico evento per la vostra occasione natalizia ! \nL’intrattenimento sarà caratterizzato da una programmazione coinvolgente che divertirà grandi e piccini in compagnia dei nostri personaggi buffi e divertenti ma soprattutto capaci di far vivere ai piccoli ospiti un pomeriggio davvero indimenticabile!!! \n \nX-mas magic Time \nMagic polo nord \nÈ il nostro spazio scenografico  itinerante che accoglierà i bambini in un luogo davvero magico; i bambini giungeranno in uno scenario ricco di sorprese… uno scenario costituito da un teatrino scenografico scintillante con luci colorate e un atmosfera magica …  Gonfiabili scenografici… Renne  gonfiabili … Un’ambiente speciale che incornicerà la nostra festa Qui  bambini potranno partecipare a una moltitudine di attività. Ci aspetta un pomeriggio strabiliante! \n  \nMagic  village tour  \nL’elfa magica di babbo natale ti aspetta per farti conoscere i segreti del magico villaggio. Corri in orario nel magic village  e unisciti al gruppo: si partirà per una magica camminata in compagnia di alcuni personaggi speciali. Si conosceranno gli angoli più nascosti e fantastici del villaggio e tante curiosità che verranno raccontate dalla buffa elfa del villaggio. \n  \nMagic elf game  \nL’elfa magica a fine del magico tour proporrà ai piccoli aiutanti un divertente gioco magico … metterà alla prova i piccoli ospiti: indovinare gli oggetti magici del villaggio sarà super divertente! \n  \nX-mas magic show \nX-mas magic show è il nostro show itinerante: il nostro ambiente accoglierà i bambini in un luogo davvero magico. Un circo natalizio con una pista illuminata \, giochi di luci e un’atmosfera natalizia unica … dove si svolgerà uno spettacolo tutto da ridere per bambini. I bambini non saranno dei semplici spettatori ma veri protagonisti … magie da ridere\, strane apparizioni faranno la loro comparsa sulla pista… spariranno foulard per lasciare spazio a calzini puzzolenti! I bambini faranno parte attivamente allo spettacolo … .condotto dal nostro buffo elfo. \n  \nX-mas lab  \n Al villaggio è tutto pronto per imparare i segreti dell’elfo. Parteciperai a un laboratorio raccontato e animato\, dove creerai una magica bacchetta tematica luminosa . Tanti passaggi\, semplici e divertenti\, e un tocco magico che darà l’elfo per trasformala in una vera bacchetta luminosa. \n  \nX-mas parade \nAl villaggio ci si prepara per una parata divertente. Prendi in mano la tua bacchetta luminosa\, ormai al villaggio la luce è scesa\, e solo il bagliore delle bacchette sarà visibile… \nSiete pronti per la parata magica verso la miniera degli elfi? \nE preparati per una sorpresa . \n  \nNB: per partecipare allo spettacolo al Villaggio di Natale è necessario prenotare il pranzo\, la merenda\, oppure la cena di sabato 7 dicembre.
URL:https://connectingkids.it/evento/x-mas-magic-show-spettacolo-al-villaggio-di-natale/
LOCATION:Il Balcone sulla Valle\, Via Camparoncino\, 7\, Bedero Valcuvia\, VA\, 21039\, Italy
CATEGORIES:Feste e sagre,Musica e Spettacolo,Villaggio di Natale
ATTACH;FMTTYPE=image/png:https://connectingkids.it/wp-content/uploads/2024/11/CENA.png
END:VEVENT
END:VCALENDAR