BEGIN:VCALENDAR
VERSION:2.0
PRODID:-//Connecting Kids - ECPv6.15.20//NONSGML v1.0//EN
CALSCALE:GREGORIAN
METHOD:PUBLISH
X-ORIGINAL-URL:https://connectingkids.it
X-WR-CALDESC:Eventi per Connecting Kids
REFRESH-INTERVAL;VALUE=DURATION:PT1H
X-Robots-Tag:noindex
X-PUBLISHED-TTL:PT1H
BEGIN:VTIMEZONE
TZID:Europe/Rome
BEGIN:DAYLIGHT
TZOFFSETFROM:+0100
TZOFFSETTO:+0200
TZNAME:CEST
DTSTART:20250330T010000
END:DAYLIGHT
BEGIN:STANDARD
TZOFFSETFROM:+0200
TZOFFSETTO:+0100
TZNAME:CET
DTSTART:20251026T010000
END:STANDARD
BEGIN:DAYLIGHT
TZOFFSETFROM:+0100
TZOFFSETTO:+0200
TZNAME:CEST
DTSTART:20260329T010000
END:DAYLIGHT
BEGIN:STANDARD
TZOFFSETFROM:+0200
TZOFFSETTO:+0100
TZNAME:CET
DTSTART:20261025T010000
END:STANDARD
BEGIN:DAYLIGHT
TZOFFSETFROM:+0100
TZOFFSETTO:+0200
TZNAME:CEST
DTSTART:20270328T010000
END:DAYLIGHT
BEGIN:STANDARD
TZOFFSETFROM:+0200
TZOFFSETTO:+0100
TZNAME:CET
DTSTART:20271031T010000
END:STANDARD
END:VTIMEZONE
BEGIN:VEVENT
DTSTART;TZID=Europe/Rome:20260502T150000
DTEND;TZID=Europe/Rome:20260502T163000
DTSTAMP:20260419T193432
CREATED:20260323T161641Z
LAST-MODIFIED:20260323T161642Z
UID:10001705-1777734000-1777739400@connectingkids.it
SUMMARY:Bio LAB || The Thinker Lab\, Varese
DESCRIPTION:Bio LAB: Cacciatori Botanici – Missione Piante\nLaboratorio di botanica per bambini a Varese (7–11 anni) \nUn viaggio tra natura\, esplorazione e storie dimenticate. \nCon il Bio LAB: Cacciatori Botanici – Missione Piante\, i bambini entreranno nel mondo affascinante delle piante\, scoprendo che dietro foglie e profumi si nascondono avventure degne dei grandi esploratori. \nSulle tracce dei cacciatori botanici\nChi pensa che le piante non si muovano… non ha mai sentito le storie dei cacciatori botanici. \nNel passato\, questi esploratori hanno attraversato oceani e foreste alla ricerca di specie rare e straordinarie. Durante il laboratorio\, i partecipanti incontreranno William\, un misterioso esploratore\, e lo aiuteranno a ricostruire il suo erbario perduto. \nTra frammenti di foglie\, osservazioni e racconti: \n\nscopriranno le caratteristiche delle piante\nriconosceranno forme\, colori e profumi\nimpareranno a osservare la natura con attenzione\ncollegheranno ogni pianta a una storia\n\nImparare attraverso l’esperienza\nIl laboratorio unisce narrazione\, osservazione e attività pratica\, trasformando la botanica in un’esperienza coinvolgente e accessibile. \nI bambini svilupperanno: \n\ncuriosità scientifica\ncapacità di osservazione\nmemoria visiva e sensoriale\nattenzione ai dettagli\n\nUn modo per avvicinarsi alla natura non solo con la mente\, ma anche con i sensi. \nUn laboratorio immerso nel verde\nL’attività si svolge nel suggestivo Parco Mantegazza\, all’interno dell’area del Castello di Masnago\, un contesto ideale per esplorare il mondo vegetale direttamente sul campo. \nInformazioni pratiche\n📅 Quando: Sabato 2 maggio\, dalle 15.00 alle 16.30📍 Dove: Parco Mantegazza – Via Monguelfo\, Varese (c/o Cill Chiosco)👦 Età: 7–11 anni \n💰 Costo: 17 € (da versare in loco) \nPosti limitati. È necessario prenotare tramite il form dedicato.
URL:https://connectingkids.it/evento/bio-lab-the-thinker-lab-varese/
LOCATION:Parco Mantegazza\, Via Monguelfo\, Varese\, VA\, 21100\, Italy
CATEGORIES:Attività all'aperto,Creatività,Scienza e tecnologia,Sport e Attività Fisica,STEAM
ATTACH;FMTTYPE=image/png:https://connectingkids.it/wp-content/uploads/2026/03/3.png
END:VEVENT
BEGIN:VEVENT
DTSTART;TZID=Europe/Rome:20260502T170000
DTEND;TZID=Europe/Rome:20260502T183000
DTSTAMP:20260419T193432
CREATED:20260414T200356Z
LAST-MODIFIED:20260414T200357Z
UID:10001721-1777741200-1777746600@connectingkids.it
SUMMARY:AstroLAB || The Thinker Lab\, Varese
DESCRIPTION:✨ AstroLAB: Costellazioni da tasca – il cielo nelle tue mani a Varese (7-12 anni)\nE se il cielo stellato potessi portarlo in tasca? Con AstroLAB: Costellazioni da tasca – Il cielo nelle tue mani\, i ragazzi dai 7 ai 12 anni vivono un viaggio tra scienza\, immaginazione e creatività alla scoperta delle stelle e delle loro storie 🌌 \nSi parte dalle costellazioni più famose del cielo notturno e dai miti antichi che le accompagnano\, per poi passare alla parte più sorprendente: la costruzione di un planetario tascabile con torcia e dischi forati\, capace di proiettare le stelle su pareti e soffitti. \nE alla fine spazio alla fantasia: ogni partecipante inventa la propria costellazione\, con forma\, nome e significato tutto suo ⭐ \n📌 Dettagli dell’evento: \n\nQuando: Sabato 2 maggio 2026\, ore 17:00 – 18:30 ⏰\nDove: Via Cairoli 5\, Varese 🏛️\nEtà consigliata: 7 – 12 anni\nCosto: 15€ 💶\nEsperta scientifica: Giorgia Acquaviva\nPrenotazione: obbligatoria\, posti limitati\n\nCosa faranno i ragazzi: \n\n🔭 Scoprire le principali costellazioni e i miti del cielo\n🌠 Costruire un planetario portatile con proiezione luminosa\n✏️ Inventare e disegnare una nuova costellazione personale\n🧠 Unire osservazione\, racconto e creatività\n\nUn’esperienza immersiva tra cielo e immaginazione\, dove ogni partecipante accende la propria stella ✨
URL:https://connectingkids.it/evento/astrolab-the-thinker-lab-varese/
LOCATION:The Thinker Lab\, via Cairoli 5\, Varese\, Italy
CATEGORIES:Laboratori scientifici,Natura e Ambiente,Scienza e tecnologia,STEAM
ATTACH;FMTTYPE=image/png:https://connectingkids.it/wp-content/uploads/2026/04/2.png
END:VEVENT
BEGIN:VEVENT
DTSTART;TZID=Europe/Rome:20260509T150000
DTEND;TZID=Europe/Rome:20260509T163000
DTSTAMP:20260419T193432
CREATED:20260323T161927Z
LAST-MODIFIED:20260323T161928Z
UID:10001706-1778338800-1778344200@connectingkids.it
SUMMARY:Bug LAB || The Thinker Lab\, Varese
DESCRIPTION:Bug LAB: Butterfly Lab\nLaboratorio sulla metamorfosi delle farfalle per bambini a Varese (7–11 anni) \nUn’esperienza unica per osservare da vicino uno dei fenomeni più straordinari della natura: la metamorfosi. \nCon il Bug LAB: Butterfly Lab\, i bambini scopriranno il ciclo vitale completo della farfalla\, vivendo in prima persona ogni fase della trasformazione\, dal bruco allo sfarfallamento. \nDal bruco alla farfalla\nDurante il laboratorio\, i piccoli esploratori: \n\nscopriranno le fasi del ciclo vitale: uovo\, bruco\, crisalide e farfalla\ncapiranno cosa accade all’interno del bozzolo\nosserveranno da vicino veri bruchi\nseguiranno il processo di crescita e trasformazione\n\nUn’attività che unisce osservazione scientifica e meraviglia\, rendendo concreta una delle trasformazioni più affascinanti della natura. \nUn piccolo ecosistema da portare a casa\nOgni bambino riceverà un kit dedicato per: \n\ncreare la casa del proprio bruco\nimparare a prendersene cura quotidianamente\ncapire cosa mangia e di cosa ha bisogno\nmonitorare il suo sviluppo\n\nI partecipanti diventeranno piccoli entomologi\, responsabili della crescita del loro ospite. \nUn percorso completo (ma flessibile)\nIl Bug LAB è strutturato in tre incontri che raccontano una storia unica: dalla scoperta iniziale fino al momento in cui la farfalla apre le ali. \nChi partecipa a tutti gli incontri potrà seguire l’intero ciclo della metamorfosi settimana dopo settimana.Ogni laboratorio resta comunque autonomo e completo\, quindi è possibile partecipare anche a un singolo appuntamento. \nUn laboratorio immerso nella natura\nL’attività si svolge nel verde del Parco Mantegazza\, all’interno del suggestivo Castello di Masnago\, perfetto per osservare la natura nel suo ambiente. \nIn caso di pioggia\, il laboratorio si terrà presso il Thinker Lab (gli iscritti verranno contattati direttamente). \nIl laboratorio sarà guidato dall’esperta Ania Limonta\, specializzata in attività scientifiche per bambini. \nInformazioni pratiche\n📅 Quando: Sabato 9 maggio\, dalle 15.00 alle 16.30📍 Dove: Parco Mantegazza – Via Monguelfo\, Varese (c/o Cill Chiosco)👦 Età: 7–11 anni \n💰 Costo: 17 € (da versare in loco) \nPosti limitati. È necessario prenotare tramite il form dedicato. \nTutti i laboratori sono condotti da professionisti specializzati\, con un approccio pratico e coinvolgente che trasforma la scienza in un’esperienza concreta e memorabile.
URL:https://connectingkids.it/evento/bug-lab-the-thinker-lab-varese-2/
LOCATION:Parco Mantegazza\, Via Monguelfo\, Varese\, VA\, 21100\, Italy
CATEGORIES:Attività all'aperto,Creatività,Scienza e tecnologia,Sport e Attività Fisica,STEAM
ATTACH;FMTTYPE=image/png:https://connectingkids.it/wp-content/uploads/2026/03/4.png
END:VEVENT
BEGIN:VEVENT
DTSTART;TZID=Europe/Rome:20260523T110000
DTEND;TZID=Europe/Rome:20260523T123000
DTSTAMP:20260419T193432
CREATED:20260414T200728Z
LAST-MODIFIED:20260414T200729Z
UID:10001722-1779534000-1779539400@connectingkids.it
SUMMARY:DinoLAB || The Thinker Lab\, Varese
DESCRIPTION:DinoLAB: scaviamo nel passato a Varese – laboratorio per bambini 6-11 anni\nPreparati a diventare un vero paleontologo per un giorno con DinoLAB: scaviamo nel passato! Un laboratorio dedicato ai bambini dai 6 agli 11 anni per scoprire il mondo dei dinosauri tra fossili\, scavi e misteri della preistoria 🦴 \nCon pennelli da scavo e tanta curiosità\, i partecipanti impareranno come i fossili raccontano storie di milioni di anni fa e cosa ci dicono sull’estinzione più enigmatica della Terra. Tra domande e scoperte\, ogni reperto diventa un pezzo di storia da ricostruire. \n📌 Dettagli dell’evento: \n\nQuando: Sabato 23 maggio 2026\, ore 11:00 – 12:30 ⏰\nDove: Via Cairoli 5\, Varese 🏛️\nEtà consigliata: 6 – 11 anni\nCosto: 15€ 💶\nEsperta scientifica: Ania Limonta\nPrenotazione: obbligatoria\, posti limitati\n\nCosa faranno i bambini: \n\n🦴 Simulare uno scavo paleontologico\n🔬 Scoprire cosa raccontano i fossili sul passato della Terra\n🧠 Capire le teorie sull’estinzione dei dinosauri\n🪨 Osservare e ricostruire storie partendo da reperti\n\nUn viaggio tra scienza e meraviglia\, per chi guarda un osso e ci vede un intero mondo perduto.
URL:https://connectingkids.it/evento/dinolab-the-thinker-lab-varese/
LOCATION:The Thinker Lab\, via Cairoli 5\, Varese\, Italy
CATEGORIES:Creatività,Laboratori scientifici,Scienza e tecnologia,STEAM,Storia e cultura
ATTACH;FMTTYPE=image/png:https://connectingkids.it/wp-content/uploads/2026/04/3.png
END:VEVENT
BEGIN:VEVENT
DTSTART;TZID=Europe/Rome:20260523T150000
DTEND;TZID=Europe/Rome:20260523T163000
DTSTAMP:20260419T193432
CREATED:20260323T162317Z
LAST-MODIFIED:20260323T162317Z
UID:10001707-1779548400-1779553800@connectingkids.it
SUMMARY:Bug LAB || The Thinker Lab\, Varese
DESCRIPTION:Bug LAB: Missione Farfalle Libere!\nLaboratorio sulla metamorfosi e liberazione delle farfalle a Varese (7–11 anni) \nIl momento più atteso: assistere alla nascita di una farfalla e vederla volare via. \nCon il Bug LAB: Missione Farfalle Libere!\, i bambini vivranno dal vivo la fase finale della metamorfosi\, osservando lo sfarfallamento e partecipando alla liberazione delle farfalle in natura. \nLa magia dello sfarfallamento\nDurante il laboratorio\, i piccoli esploratori: \n\nassisteranno alla nascita della farfalla\nosserveranno le ali aprirsi per la prima volta\nparteciperanno alla liberazione all’aria aperta\ncomprenderanno il completamento del ciclo vitale\n\nUn’esperienza emozionante che rende concreta la trasformazione iniziata nelle fasi precedenti. \nLe metamorfosi nel mondo degli insetti\nNon tutte le trasformazioni sono uguali. \nI bambini scopriranno le differenze tra vari insetti: \n\nbaco da seta\nlibellule\nmantide religiosa\napi\n\nUn viaggio nella biodiversità che mostra come la natura trovi soluzioni diverse per evolversi e adattarsi. \nUn percorso completo e modulare\nIl Bug LAB è un percorso in tre incontri che racconta l’intero ciclo della metamorfosi:\ndal bruco fino alla farfalla. \nChi partecipa a tutti gli appuntamenti vivrà un’esperienza completa\, seguendo ogni fase settimana dopo settimana.Ogni laboratorio è comunque indipendente e fruibile singolarmente. \nUn laboratorio immerso nella natura\nL’attività si svolge nel verde del Parco Mantegazza\, all’interno del suggestivo Castello di Masnago\, un ambiente ideale per osservare e liberare le farfalle nel loro habitat. \nIn caso di pioggia\, l’incontro si terrà presso il Thinker Lab (gli iscritti verranno contattati direttamente). \nIl laboratorio sarà guidato dall’esperta Ania Limonta\, specializzata in attività scientifiche per bambini. \nInformazioni pratiche\n📅 Quando: Sabato 23 maggio\, dalle 15.00 alle 16.30📍 Dove: Parco Mantegazza – Via Monguelfo\, Varese (c/o Cill Chiosco)👦 Età: 7–11 anni \n💰 Costo: 17 € (da versare in loco) \nPosti limitati. È necessario prenotare tramite il form dedicato. \nTutti i laboratori sono condotti da professionisti specializzati\, con un approccio pratico e dinamico che rende la scienza un’esperienza concreta\, coinvolgente e memorabile.
URL:https://connectingkids.it/evento/bug-lab-the-thinker-lab-varese-3/
LOCATION:Parco Mantegazza\, Via Monguelfo\, Varese\, VA\, 21100\, Italy
CATEGORIES:Attività all'aperto,Creatività,Scienza e tecnologia,Sport e Attività Fisica,STEAM
ATTACH;FMTTYPE=image/png:https://connectingkids.it/wp-content/uploads/2026/03/5.png
END:VEVENT
END:VCALENDAR