BEGIN:VCALENDAR
VERSION:2.0
PRODID:-//Connecting Kids - ECPv6.15.20//NONSGML v1.0//EN
CALSCALE:GREGORIAN
METHOD:PUBLISH
X-WR-CALNAME:Connecting Kids
X-ORIGINAL-URL:https://connectingkids.it
X-WR-CALDESC:Eventi per Connecting Kids
REFRESH-INTERVAL;VALUE=DURATION:PT1H
X-Robots-Tag:noindex
X-PUBLISHED-TTL:PT1H
BEGIN:VTIMEZONE
TZID:Europe/Rome
BEGIN:DAYLIGHT
TZOFFSETFROM:+0100
TZOFFSETTO:+0200
TZNAME:CEST
DTSTART:20250330T010000
END:DAYLIGHT
BEGIN:STANDARD
TZOFFSETFROM:+0200
TZOFFSETTO:+0100
TZNAME:CET
DTSTART:20251026T010000
END:STANDARD
BEGIN:DAYLIGHT
TZOFFSETFROM:+0100
TZOFFSETTO:+0200
TZNAME:CEST
DTSTART:20260329T010000
END:DAYLIGHT
BEGIN:STANDARD
TZOFFSETFROM:+0200
TZOFFSETTO:+0100
TZNAME:CET
DTSTART:20261025T010000
END:STANDARD
BEGIN:DAYLIGHT
TZOFFSETFROM:+0100
TZOFFSETTO:+0200
TZNAME:CEST
DTSTART:20270328T010000
END:DAYLIGHT
BEGIN:STANDARD
TZOFFSETFROM:+0200
TZOFFSETTO:+0100
TZNAME:CET
DTSTART:20271031T010000
END:STANDARD
END:VTIMEZONE
BEGIN:VEVENT
DTSTART;TZID=Europe/Rome:20260613T170000
DTEND;TZID=Europe/Rome:20260613T183000
DTSTAMP:20260420T000242
CREATED:20260407T091427Z
LAST-MODIFIED:20260407T091427Z
UID:10001715-1781370000-1781375400@connectingkids.it
SUMMARY:Beyblade X - The Thinker Lab\, Varese
DESCRIPTION:Beyblade X – Allenamento e gioco a Varese\nSfide\, strategia e divertimento per bambini e ragazzi (6–13 anni) \nUn appuntamento dedicato a tutti gli appassionati di Beyblade X\, dove allenamento e gioco si incontrano in un ambiente dinamico e coinvolgente. \nGli eventi sono organizzati in collaborazione con Crazy Comics & Games e Rooster X Beyblade Club Varese\, portando al Thinker Lab un’esperienza strutturata fatta di sfide\, tecnica e socialità. \nAllenati\, sfida e migliora la tua tecnica\nDurante ogni incontro\, i partecipanti potranno: \n\nallenarsi con il proprio Beyblade X\nsfidare altri giocatori in battle emozionanti\nsperimentare strategie diverse\nmigliorare controllo e precisione\n\nUn’occasione perfetta per divertirsi e allo stesso tempo sviluppare capacità di concentrazione e spirito competitivo. \nUn ambiente pensato per i giovani blader\nGrazie alla collaborazione con il club Rooster X Beyblade Club Varese: \n\nsaranno disponibili arene da gioco\nsi creerà un contesto sicuro e organizzato\ni ragazzi potranno socializzare e fare nuove amicizie\n\nUn’esperienza che va oltre il semplice gioco\, favorendo interazione e condivisione. \nInformazioni pratiche\n📅 Date disponibili: \n\n18 aprile\n9 maggio\n23 maggio\n13 giugno\n\n🕔 Orario: 17.00 – 18.30 \n📍 Dove: Thinker Lab\, Via Cairoli 5\, Varese \n👦 Età: 6 – 13 anni \n💰 Costo: 5 € (da versare in loco) \n📌 Posti limitati\, prenotazione obbligatoria tramite form dedicato. \n📞 Info: 391 172 2721
URL:https://connectingkids.it/evento/beyblade-x-the-thinker-lab-varese-2/2026-06-13/
LOCATION:The Thinker Lab\, via Cairoli 5\, Varese\, Italy
CATEGORIES:Creatività,Gioco e Divertimento,Mostre interattive,Serata Ludica,STEAM,Tornei giochi
ATTACH;FMTTYPE=image/jpeg:https://connectingkids.it/wp-content/uploads/2026/04/2.jpg
END:VEVENT
END:VCALENDAR