BEGIN:VCALENDAR
VERSION:2.0
PRODID:-//Connecting Kids - ECPv6.15.20//NONSGML v1.0//EN
CALSCALE:GREGORIAN
METHOD:PUBLISH
X-WR-CALNAME:Connecting Kids
X-ORIGINAL-URL:https://connectingkids.it
X-WR-CALDESC:Eventi per Connecting Kids
REFRESH-INTERVAL;VALUE=DURATION:PT1H
X-Robots-Tag:noindex
X-PUBLISHED-TTL:PT1H
BEGIN:VTIMEZONE
TZID:Europe/Rome
BEGIN:DAYLIGHT
TZOFFSETFROM:+0100
TZOFFSETTO:+0200
TZNAME:CEST
DTSTART:20250330T010000
END:DAYLIGHT
BEGIN:STANDARD
TZOFFSETFROM:+0200
TZOFFSETTO:+0100
TZNAME:CET
DTSTART:20251026T010000
END:STANDARD
BEGIN:DAYLIGHT
TZOFFSETFROM:+0100
TZOFFSETTO:+0200
TZNAME:CEST
DTSTART:20260329T010000
END:DAYLIGHT
BEGIN:STANDARD
TZOFFSETFROM:+0200
TZOFFSETTO:+0100
TZNAME:CET
DTSTART:20261025T010000
END:STANDARD
BEGIN:DAYLIGHT
TZOFFSETFROM:+0100
TZOFFSETTO:+0200
TZNAME:CEST
DTSTART:20270328T010000
END:DAYLIGHT
BEGIN:STANDARD
TZOFFSETFROM:+0200
TZOFFSETTO:+0100
TZNAME:CET
DTSTART:20271031T010000
END:STANDARD
END:VTIMEZONE
BEGIN:VEVENT
DTSTART;TZID=Europe/Rome:20260509T103000
DTEND;TZID=Europe/Rome:20260509T120000
DTSTAMP:20260419T171855
CREATED:20260323T161105Z
LAST-MODIFIED:20260323T161106Z
UID:10001703-1778322600-1778328000@connectingkids.it
SUMMARY:Bricks LAB || The Thinker Lab\, Varese
DESCRIPTION:Bricks LAB: la magia della matematica con i mattoncini LEGO®\nLaboratorio STEAM per bambini a Varese (7–11 anni) \nLa matematica può essere concreta\, creativa e persino divertente. Nel Bricks LAB\, i mattoncini LEGO® diventano strumenti per esplorare concetti matematici in modo pratico e intuitivo. \nIl laboratorio\, pensato per bambini dai 7 agli 11 anni\, trasforma il gioco in un’esperienza educativa dove logica\, ingegno e creatività lavorano insieme. \nImparare la matematica… costruendo\nDurante il laboratorio\, i partecipanti utilizzeranno i LEGO® per: \n\ncomporre e scomporre forme geometriche\ncomprendere le frazioni attraverso colori e dimensioni\nmisurare superfici contando gli iconici stud (bottoncini LEGO)\nprogettare strutture solide e originali\n\nOgni bambino diventerà il progettista della propria costruzione\, imparando a spiegare le proprie scelte e a risolvere piccoli problemi in modo creativo. \nQui la matematica non si studia sui libri: si costruisce\, si sperimenta e si racconta. \nUn approccio STEAM innovativo\nIl Bricks LAB utilizza un approccio STEAM (Scienza\, Tecnologia\, Ingegneria\, Arte e Matematica) per sviluppare: \n\npensiero logico\nproblem solving\ncapacità progettuali\nespressione creativa\n\nL’errore diventa parte del processo e ogni attività è pensata per stimolare curiosità e autonomia. \nIl laboratorio sarà tenuto da Francesco Frangioja\, Certified Facilitator of LEGO® SERIOUS PLAY®\, esperto in metodologie educative basate sul learning by doing. \nInformazioni pratiche\n📅 Date: 11 aprile\, 18 aprile\, 9 maggio🕥 Orario: 10.30 – 12.00📍 Dove: Via Cairoli 5\, Varese👦 Età: 7–11 anni \n💰 Costo: 16 € (da versare in loco) \nPosti limitati. È necessario prenotare tramite il form dedicato. \nTutti i laboratori sono condotti da professionisti specializzati\, con un approccio pratico e dinamico che rende l’apprendimento coinvolgente e accessibile.
URL:https://connectingkids.it/evento/bricks-lab-the-thinker-lab-varese/2026-05-09/
LOCATION:The Thinker Lab\, via Cairoli 5\, Varese\, Italy
CATEGORIES:Arte e Creatività,Creatività,Laboratori scientifici,Laboratorio,STEAM
ATTACH;FMTTYPE=image/png:https://connectingkids.it/wp-content/uploads/2026/03/1.png
END:VEVENT
BEGIN:VEVENT
DTSTART;TZID=Europe/Rome:20260509T150000
DTEND;TZID=Europe/Rome:20260509T163000
DTSTAMP:20260419T171855
CREATED:20260323T161927Z
LAST-MODIFIED:20260323T161928Z
UID:10001706-1778338800-1778344200@connectingkids.it
SUMMARY:Bug LAB || The Thinker Lab\, Varese
DESCRIPTION:Bug LAB: Butterfly Lab\nLaboratorio sulla metamorfosi delle farfalle per bambini a Varese (7–11 anni) \nUn’esperienza unica per osservare da vicino uno dei fenomeni più straordinari della natura: la metamorfosi. \nCon il Bug LAB: Butterfly Lab\, i bambini scopriranno il ciclo vitale completo della farfalla\, vivendo in prima persona ogni fase della trasformazione\, dal bruco allo sfarfallamento. \nDal bruco alla farfalla\nDurante il laboratorio\, i piccoli esploratori: \n\nscopriranno le fasi del ciclo vitale: uovo\, bruco\, crisalide e farfalla\ncapiranno cosa accade all’interno del bozzolo\nosserveranno da vicino veri bruchi\nseguiranno il processo di crescita e trasformazione\n\nUn’attività che unisce osservazione scientifica e meraviglia\, rendendo concreta una delle trasformazioni più affascinanti della natura. \nUn piccolo ecosistema da portare a casa\nOgni bambino riceverà un kit dedicato per: \n\ncreare la casa del proprio bruco\nimparare a prendersene cura quotidianamente\ncapire cosa mangia e di cosa ha bisogno\nmonitorare il suo sviluppo\n\nI partecipanti diventeranno piccoli entomologi\, responsabili della crescita del loro ospite. \nUn percorso completo (ma flessibile)\nIl Bug LAB è strutturato in tre incontri che raccontano una storia unica: dalla scoperta iniziale fino al momento in cui la farfalla apre le ali. \nChi partecipa a tutti gli incontri potrà seguire l’intero ciclo della metamorfosi settimana dopo settimana.Ogni laboratorio resta comunque autonomo e completo\, quindi è possibile partecipare anche a un singolo appuntamento. \nUn laboratorio immerso nella natura\nL’attività si svolge nel verde del Parco Mantegazza\, all’interno del suggestivo Castello di Masnago\, perfetto per osservare la natura nel suo ambiente. \nIn caso di pioggia\, il laboratorio si terrà presso il Thinker Lab (gli iscritti verranno contattati direttamente). \nIl laboratorio sarà guidato dall’esperta Ania Limonta\, specializzata in attività scientifiche per bambini. \nInformazioni pratiche\n📅 Quando: Sabato 9 maggio\, dalle 15.00 alle 16.30📍 Dove: Parco Mantegazza – Via Monguelfo\, Varese (c/o Cill Chiosco)👦 Età: 7–11 anni \n💰 Costo: 17 € (da versare in loco) \nPosti limitati. È necessario prenotare tramite il form dedicato. \nTutti i laboratori sono condotti da professionisti specializzati\, con un approccio pratico e coinvolgente che trasforma la scienza in un’esperienza concreta e memorabile.
URL:https://connectingkids.it/evento/bug-lab-the-thinker-lab-varese-2/
LOCATION:Parco Mantegazza\, Via Monguelfo\, Varese\, VA\, 21100\, Italy
CATEGORIES:Attività all'aperto,Creatività,Scienza e tecnologia,Sport e Attività Fisica,STEAM
ATTACH;FMTTYPE=image/png:https://connectingkids.it/wp-content/uploads/2026/03/4.png
END:VEVENT
BEGIN:VEVENT
DTSTART;TZID=Europe/Rome:20260509T170000
DTEND;TZID=Europe/Rome:20260509T183000
DTSTAMP:20260419T171855
CREATED:20260407T091427Z
LAST-MODIFIED:20260407T091427Z
UID:10001713-1778346000-1778351400@connectingkids.it
SUMMARY:Beyblade X - The Thinker Lab\, Varese
DESCRIPTION:Beyblade X – Allenamento e gioco a Varese\nSfide\, strategia e divertimento per bambini e ragazzi (6–13 anni) \nUn appuntamento dedicato a tutti gli appassionati di Beyblade X\, dove allenamento e gioco si incontrano in un ambiente dinamico e coinvolgente. \nGli eventi sono organizzati in collaborazione con Crazy Comics & Games e Rooster X Beyblade Club Varese\, portando al Thinker Lab un’esperienza strutturata fatta di sfide\, tecnica e socialità. \nAllenati\, sfida e migliora la tua tecnica\nDurante ogni incontro\, i partecipanti potranno: \n\nallenarsi con il proprio Beyblade X\nsfidare altri giocatori in battle emozionanti\nsperimentare strategie diverse\nmigliorare controllo e precisione\n\nUn’occasione perfetta per divertirsi e allo stesso tempo sviluppare capacità di concentrazione e spirito competitivo. \nUn ambiente pensato per i giovani blader\nGrazie alla collaborazione con il club Rooster X Beyblade Club Varese: \n\nsaranno disponibili arene da gioco\nsi creerà un contesto sicuro e organizzato\ni ragazzi potranno socializzare e fare nuove amicizie\n\nUn’esperienza che va oltre il semplice gioco\, favorendo interazione e condivisione. \nInformazioni pratiche\n📅 Date disponibili: \n\n18 aprile\n9 maggio\n23 maggio\n13 giugno\n\n🕔 Orario: 17.00 – 18.30 \n📍 Dove: Thinker Lab\, Via Cairoli 5\, Varese \n👦 Età: 6 – 13 anni \n💰 Costo: 5 € (da versare in loco) \n📌 Posti limitati\, prenotazione obbligatoria tramite form dedicato. \n📞 Info: 391 172 2721
URL:https://connectingkids.it/evento/beyblade-x-the-thinker-lab-varese-2/2026-05-09/
LOCATION:The Thinker Lab\, via Cairoli 5\, Varese\, Italy
CATEGORIES:Creatività,Gioco e Divertimento,Mostre interattive,Serata Ludica,STEAM,Tornei giochi
ATTACH;FMTTYPE=image/jpeg:https://connectingkids.it/wp-content/uploads/2026/04/2.jpg
END:VEVENT
END:VCALENDAR