BEGIN:VCALENDAR
VERSION:2.0
PRODID:-//Connecting Kids - ECPv6.15.20//NONSGML v1.0//EN
CALSCALE:GREGORIAN
METHOD:PUBLISH
X-WR-CALNAME:Connecting Kids
X-ORIGINAL-URL:https://connectingkids.it
X-WR-CALDESC:Eventi per Connecting Kids
REFRESH-INTERVAL;VALUE=DURATION:PT1H
X-Robots-Tag:noindex
X-PUBLISHED-TTL:PT1H
BEGIN:VTIMEZONE
TZID:Europe/Rome
BEGIN:DAYLIGHT
TZOFFSETFROM:+0100
TZOFFSETTO:+0200
TZNAME:CEST
DTSTART:20250330T010000
END:DAYLIGHT
BEGIN:STANDARD
TZOFFSETFROM:+0200
TZOFFSETTO:+0100
TZNAME:CET
DTSTART:20251026T010000
END:STANDARD
BEGIN:DAYLIGHT
TZOFFSETFROM:+0100
TZOFFSETTO:+0200
TZNAME:CEST
DTSTART:20260329T010000
END:DAYLIGHT
BEGIN:STANDARD
TZOFFSETFROM:+0200
TZOFFSETTO:+0100
TZNAME:CET
DTSTART:20261025T010000
END:STANDARD
BEGIN:DAYLIGHT
TZOFFSETFROM:+0100
TZOFFSETTO:+0200
TZNAME:CEST
DTSTART:20270328T010000
END:DAYLIGHT
BEGIN:STANDARD
TZOFFSETFROM:+0200
TZOFFSETTO:+0100
TZNAME:CET
DTSTART:20271031T010000
END:STANDARD
END:VTIMEZONE
BEGIN:VEVENT
DTSTART;TZID=Europe/Rome:20260421T100000
DTEND;TZID=Europe/Rome:20260421T120000
DTSTAMP:20260419T174602
CREATED:20251231T103225Z
LAST-MODIFIED:20251231T103226Z
UID:10001677-1776765600-1776772800@connectingkids.it
SUMMARY:Stare Insieme || Biblioteca Busto Arsizio
DESCRIPTION:Spazio per neo genitori e bambine/i 0–12 mesi\n📍 Busto Arsizio – Biblioteca\, Sezione Ragazzi(Ingresso da via Marliani 7) \nUn tempo lento\, morbido e condiviso\nDa ottobre 2025 a maggio 2026\, la Biblioteca di Busto Arsizio apre uno spazio pensato per chi vive quei mesi intensi\, confusi e meravigliosi che sono l’inizio della vita insieme. \nStare Insieme è un momento dedicato a neo genitori e bambine/i da 0 a 12 mesi: uno spazio comodo e accogliente dove incontrarsi\, leggere\, ascoltare\, condividere esperienze e semplicemente stare. Senza fretta\, senza giudizi\, senza manuali da seguire alla lettera. \nOgni incontro alterna momenti di lettura\, relazione e confronto\, con appuntamenti speciali guidati direttamente dalle bibliotecarie\, che accompagnano adulti e piccolissimi nel primo incontro con i libri. \nQui non si “fa performance”. Si cresce. Insieme. \nQuando\n🗓 Tutti i martedì⏰ dalle 10.00 alle 12.00 \n📌 Secondo martedì del mese: incontro con le bibliotecarie \n🔹 Inizio e presentazione:Martedì 14 ottobre 2025\, ore 10.00 \nInformazioni utili\nDove:Biblioteca di Busto Arsizio – Sezione RagazziIngresso da via Marliani\, 7 \nAbbigliamento consigliato:Comodo\, pratico e con calzini antiscivolo (per chi già sperimenta la gravità). \nIngresso:Libero e gratuito \nCategorie:Libri \n📞 Contatti:0331 390390✉️ biblioteca.sezioneragazzi@comune.bustoarsizio.va.it
URL:https://connectingkids.it/evento/stare-insieme-biblioteca-busto-arsizio/2026-04-21/
LOCATION:biblioteca Busto Arsizio\, via Marliani 7\, Busto Arsizio\, VA\, 21052\, Italy
CATEGORIES:Gratis,Lettura e Letteratura,Letture animate
ATTACH;FMTTYPE=image/png:https://connectingkids.it/wp-content/uploads/2025/12/foto-header-39.png
END:VEVENT
END:VCALENDAR